BEGIN:VCALENDAR
VERSION:2.0
PRODID:-//jEvents 2.0 for Joomla//EN
CALSCALE:GREGORIAN
METHOD:PUBLISH
BEGIN:VEVENT
UID:bb9cf55dac5cb344cfbe833d376d0fb0
CATEGORIES:15. Bezirk
CREATED:20190218T220511
SUMMARY:MALEN UND GESTALTEN FÜR ELTERN UND KINDER VON 1½ BIS 3½ JAHREN
LOCATION:Löhrgasse 10
DESCRIPTION:<p>…Begeistertes Tun steht hier im Vordergrund. Wer Lust hat, …mit viel Ver
 gnügen und Freude am Experimentieren zu malen, mischen, drucken oder stempe
 ln, …bunte Farben leuchten zu lassen, …Bilder zu streuen, zu kleben, zu sch
 neiden, zu schütten, …mit Rasierschaum zu patzen, …bunte Nudeln zu fädeln,,
  … Figuren, Objekte, Landschaften aus Verpackungsmaterial zu stecken und ba
 uen,…<br />…das Kleben, Reißen, Schneiden, Schütten, Kneten und Formen mach
 t in einer vertrauten Gruppe noch mehr Spaß. Das gemeinsame Arbeiten mit de
 m Kind eröffnet auch den Erwachsenen neue Zugänge zur eigenen Kreativität.<
 /p><p>Leitung: Conny Zogmeier<br />Kosten: 180 Euro für zehn Nachmittage</p
 >
CONTACT:office@kinderatelier.at
X-EXTRAINFO:[preis='18000'][anmeldung='true']
DTSTAMP:20260425T141633
DTSTART:20190315T143000
DTEND:20190315T163000
SEQUENCE:0
TRANSP:OPAQUE
END:VEVENT
END:VCALENDAR