BEGIN:VCALENDAR
VERSION:2.0
PRODID:-//jEvents 2.0 for Joomla//EN
CALSCALE:GREGORIAN
METHOD:PUBLISH
BEGIN:VEVENT
UID:d6fb6956265ce2e273a75382b31d11b3
CATEGORIES:15. Bezirk
CREATED:20190218T221002
SUMMARY:TANZ UND SPIEL FÜR ELTERN UND KINDER VON 1 BIS 3 JAHREN
LOCATION:Neubaugürtel 7
DESCRIPTION:……sich miteinander unter Tüchern verstecken, auf großen Bällen rollen, mite
 inander kugeln, purzeln und schaukeln, mit Luftballons spielen, Kisten durc
 h den Raum schieben, im Konfettiregen sitzen, Rhythmus und Musik erleben, u
 nd das alles nicht allein, sondern in der Geborgenheit einer vertrauten Gru
 ppe.\nLeitung: Alice Bauer\nKosten: 165 Euro für 13 Vormittage\n
X-ALT-DESC;FMTTYPE=text/html:<p>……sich miteinander unter Tüchern verstecken, auf großen Bällen rollen, m
 iteinander kugeln, purzeln und schaukeln, mit Luftballons spielen, Kisten d
 urch den Raum schieben, im Konfettiregen sitzen, Rhythmus und Musik erleben
 , und das alles nicht allein, sondern in der Geborgenheit einer vertrauten 
 Gruppe.</p><p>Leitung: Alice Bauer<br />Kosten: 165 Euro für 13 Vormittage<
 /p>
CONTACT:office@kinderatelier.at
X-EXTRAINFO:[preis='16500'][anmeldung='true']
DTSTAMP:20260425T121308
DTSTART:20190319T090000
DTEND:20190319T103000
SEQUENCE:0
TRANSP:OPAQUE
END:VEVENT
END:VCALENDAR