BEGIN:VCALENDAR
VERSION:2.0
PRODID:-//jEvents 2.0 for Joomla//EN
CALSCALE:GREGORIAN
METHOD:PUBLISH
BEGIN:VEVENT
UID:10382c7a40bfa5838e5ea70c3c104051
CATEGORIES:7. Bezirk
CREATED:20190226T161019
SUMMARY:Spielgruppe für 14-24 Mon.
LOCATION:Nanaya\, Zollergasse 37
DESCRIPTION:SPIELGRUPPE mit Musik und Bewegung\n für Kinder im Alter von 14-24 Monaten\
 nDie Spielgruppe ist ein Ort, an dem Mütter und Väter sich stressfrei mit i
 hren Babys beschäftigen und sie in ihrer jeweiligen Entwicklungsstufe erleb
 en können.\n \n Die Sinneswahrnehmung der Babys wird angeregt und spieleris
 ch gefördert, indem wir ihnen verschiedene Materialien zum Schauen, Hören, 
 Greifen und Fühlen anbieten (Bälle, bunte Tücher, Becher, Klangspielzeuge u
 nd vieles mehr).\n Wir lassen sie spielen und ihre Umgebung erforschen und 
 stillen ihr Bedürfnis nach Regelmäßigkeit durch wiederkehrende Melodien und
  Fingerspiele.\n \n Die Eltern erhalten Anregungen für Spiele und haben die
  Gelegenheit mit Hilfe themenspezifischer Impulse über aktuelle Themen wie 
 z.B. Durchschlafen, Ernährung, Trotzphasen etc. zu diskutieren und sich dar
 über auszutauschen.\n
X-ALT-DESC;FMTTYPE=text/html:<p><strong class="text1_10">SPIELGRUPPE mit Musik und Bewegung<br /> für Ki
 nder im Alter von 14-24 Monaten</strong></p><p>Die Spielgruppe ist ein Ort,
  an dem Mütter und Väter sich stressfrei mit ihren Babys beschäftigen und s
 ie in ihrer jeweiligen Entwicklungsstufe erleben können.<br /> <br /> Die S
 inneswahrnehmung der Babys wird angeregt und spielerisch gefördert, indem w
 ir ihnen verschiedene Materialien zum Schauen, Hören, Greifen und Fühlen an
 bieten (Bälle, bunte Tücher, Becher, Klangspielzeuge und vieles mehr).<br /
 > Wir lassen sie spielen und ihre Umgebung erforschen und stillen ihr Bedür
 fnis nach Regelmäßigkeit durch wiederkehrende Melodien und Fingerspiele.<br
  /> <br /> Die Eltern erhalten Anregungen für Spiele und haben die Gelegenh
 eit mit Hilfe themenspezifischer Impulse über aktuelle Themen wie z.B. Durc
 hschlafen, Ernährung, Trotzphasen etc. zu diskutieren und sich darüber ausz
 utauschen.</p>
CONTACT:rundumgeburt@nanaya.at
X-EXTRAINFO:[preis='10200'][anmeldung='true']
DTSTAMP:20260425T141248
DTSTART:20190325T150000
DTEND:20190325T163000
SEQUENCE:0
TRANSP:OPAQUE
END:VEVENT
END:VCALENDAR