BEGIN:VCALENDAR
VERSION:2.0
PRODID:-//jEvents 2.0 for Joomla//EN
CALSCALE:GREGORIAN
METHOD:PUBLISH
BEGIN:VEVENT
UID:9f6149fab7170b608589aae962574d60
CATEGORIES:6. Bezirk
CREATED:20190227T104304
SUMMARY:Spielgruppen mit Gebärdensprache (ÖGS)
LOCATION:kinderhände Zentrum\, Stumpergasse 48/4\, 1060 Wien
DESCRIPTION:Babys lernen schon früh zu kommunizieren und sprachliche Reize zu deuten – 
 egal ob sie gesprochen oder gebärdet werden. In unseren Spielgruppen MINI l
 ernen Kleinkinder zwischen 6 Monaten und 1 Jahr gemeinsam mit ihren Mamas o
 der Papas wie man mit den Händen spricht. Hörende Kleinkinder lernen sich m
 it Gebärden auszudrücken, bevor sie noch richtig sprechen können. Es ist ei
 ne tolle Möglichkeit, die Kommunikation zwischen Eltern und Kind zu stärken
 .\n\nGeleitet werden die Spielgruppen von zwei Trainerinnen, max. 8 Kinder.
  Zur Unterstützung beim Lernen zu Hause steht allen TeilnehmerInnen eine on
 line Lernplattform mit Videos der gelernten Gebärden zur Verfügung.\nTermin
 e: \nMINI 1: Ab Mittwoch, 13.3. 2019 von 9:30 - 10:30 (10 x/ wöchentlich)\n
 MINI 2: Ab Donnerstag, 14.3. 2019 von 9:30 - 10:30 (10 x/ wöchentlich)\n \n
 Infos zu den Kursen und Anmeldung: http://kinderhaende.at/de/content/aktuel
 les-programm (http://kinderhaende.at/de/content/aktuelles-programm)\n
X-ALT-DESC;FMTTYPE=text/html:<p><strong style="caret-color: #444444; color: #444444; font-family: myriad
 -pro-regular; font-size: 14px; font-style: normal; font-variant-caps: norma
 l; letter-spacing: normal; orphans: auto; text-align: justify; text-indent:
  0px; text-transform: none; white-space: normal; widows: auto; word-spacing
 : 0px; -webkit-text-size-adjust: auto; -webkit-text-stroke-width: 0px; text
 -decoration: none;">Babys lernen schon früh zu kommunizieren und sprachlich
 e Reize zu deuten</strong><span style="caret-color: #444444; color: #444444
 ; font-family: myriad-pro-regular; font-size: 14px; font-style: normal; fon
 t-variant-caps: normal; font-weight: normal; letter-spacing: normal; orphan
 s: auto; text-align: justify; text-indent: 0px; text-transform: none; white
 -space: normal; widows: auto; word-spacing: 0px; -webkit-text-size-adjust: 
 auto; -webkit-text-stroke-width: 0px; text-decoration: none; display: inlin
 e !important; float: none;"> – egal ob sie gesprochen oder gebärdet werden.
  In unseren </span><strong style="caret-color: #444444; color: #444444; fon
 t-family: myriad-pro-regular; font-size: 14px; font-style: normal; font-var
 iant-caps: normal; letter-spacing: normal; orphans: auto; text-align: justi
 fy; text-indent: 0px; text-transform: none; white-space: normal; widows: au
 to; word-spacing: 0px; -webkit-text-size-adjust: auto; -webkit-text-stroke-
 width: 0px; text-decoration: none;">Spielgruppen MINI</strong><span style="
 caret-color: #444444; color: #444444; font-family: myriad-pro-regular; font
 -size: 14px; font-style: normal; font-variant-caps: normal; font-weight: no
 rmal; letter-spacing: normal; orphans: auto; text-align: justify; text-inde
 nt: 0px; text-transform: none; white-space: normal; widows: auto; word-spac
 ing: 0px; -webkit-text-size-adjust: auto; -webkit-text-stroke-width: 0px; t
 ext-decoration: none; display: inline !important; float: none;"> lernen Kle
 inkinder zwischen 6 Monaten und 1 Jahr gemeinsam mit ihren Mamas oder Papas
  wie man mit den Händen spricht. Hörende Kleinkinder lernen sich mit Gebärd
 en auszudrücken, bevor sie noch richtig sprechen können. Es ist eine tolle 
 Möglichkeit, die Kommunikation zwischen Eltern und Kind zu stärken.<br /></
 span></p><p><span style="caret-color: #444444; color: #444444; font-family:
  myriad-pro-regular; font-size: 14px; font-style: normal; font-variant-caps
 : normal; font-weight: normal; letter-spacing: normal; orphans: auto; text-
 align: justify; text-indent: 0px; text-transform: none; white-space: normal
 ; widows: auto; word-spacing: 0px; -webkit-text-size-adjust: auto; -webkit-
 text-stroke-width: 0px; text-decoration: none; display: inline !important; 
 float: none;">Geleitet werden die Spielgruppen von zwei Trainerinnen, max. 
 8 Kinder. Zur Unterstützung beim Lernen zu Hause steht allen TeilnehmerInne
 n eine <strong>online Lernplattform</strong> mit Videos der gelernten Gebär
 den zur Verfügung.</span></p><p><span style="caret-color: #444444; color: #
 444444; font-family: myriad-pro-regular; font-size: 14px; font-style: norma
 l; font-variant-caps: normal; font-weight: normal; letter-spacing: normal; 
 orphans: auto; text-align: justify; text-indent: 0px; text-transform: none;
  white-space: normal; widows: auto; word-spacing: 0px; -webkit-text-size-ad
 just: auto; -webkit-text-stroke-width: 0px; text-decoration: none; display:
  inline !important; float: none;"><strong>Termine:</strong> </span></p><p><
 span style="caret-color: #444444; color: #444444; font-family: myriad-pro-r
 egular; font-size: 14px; font-style: normal; font-variant-caps: normal; fon
 t-weight: normal; letter-spacing: normal; orphans: auto; text-align: justif
 y; text-indent: 0px; text-transform: none; white-space: normal; widows: aut
 o; word-spacing: 0px; -webkit-text-size-adjust: auto; -webkit-text-stroke-w
 idth: 0px; text-decoration: none; display: inline !important; float: none;"
 >MINI 1: Ab Mittwoch, 13.3. 2019 von 9:30 - 10:30 (10 x/ wöchentlich)</span
 ></p><p><span style="caret-color: #444444; color: #444444; font-family: myr
 iad-pro-regular; font-size: 14px; font-style: normal; font-variant-caps: no
 rmal; font-weight: normal; letter-spacing: normal; orphans: auto; text-alig
 n: justify; text-indent: 0px; text-transform: none; white-space: normal; wi
 dows: auto; word-spacing: 0px; -webkit-text-size-adjust: auto; -webkit-text
 -stroke-width: 0px; text-decoration: none; display: inline !important; floa
 t: none;">MINI 2: Ab Donnerstag, 14.3. 2019 von 9:30 - 10:30 (10 x/ wöchent
 lich)</span></p><p> </p><p><span style="caret-color: #444444; color: #44444
 4; font-family: myriad-pro-regular; font-size: 14px; font-style: normal; fo
 nt-variant-caps: normal; font-weight: normal; letter-spacing: normal; orpha
 ns: auto; text-align: justify; text-indent: 0px; text-transform: none; whit
 e-space: normal; widows: auto; word-spacing: 0px; -webkit-text-size-adjust:
  auto; -webkit-text-stroke-width: 0px; text-decoration: none; display: inli
 ne !important; float: none;"><strong>Infos zu den Kursen und Anmeldung</str
 ong>: <a href="http://kinderhaende.at/de/content/aktuelles-programm">http:/
 /kinderhaende.at/de/content/aktuelles-programm</a></span></p>
CONTACT:info@kinderhaende.at
X-EXTRAINFO:[preis='18500'][anmeldung='true']
DTSTAMP:20260423T225113
DTSTART:20190403T073000
DTEND:20190403T083000
SEQUENCE:0
TRANSP:OPAQUE
END:VEVENT
END:VCALENDAR