BEGIN:VCALENDAR
VERSION:2.0
PRODID:-//jEvents 2.0 for Joomla//EN
CALSCALE:GREGORIAN
METHOD:PUBLISH
BEGIN:VEVENT
UID:37d150a93ace43cda00c75c09126baa2
CATEGORIES:9. Bezirk
CREATED:20190228T100858
SUMMARY:Frühlingskurs Schwangerschaftsyoga im Hebammenzentrum
LOCATION:Hebammenzentrum Wien
DESCRIPTION:Du erwartest ein Baby und möchtest diese schöne Zeit in vollen Zügen genieß
 en?\nBeim Yoga kannst du deine Körperwahrnehmung intensivieren und dich auf
  diese besondere Situation voll und ganz einlassen. Nimm dir Zeit für dich 
 und dein Baby und fühl dich in deinem Körper so richtig wohl.\nDie Einheit 
 beginnen wir mit einer kurzen Vorstellungsrunde zum Austausch der individue
 llen Bedürfnisse. Die nachfolgende Praxis ist körperstärkend und gibt dir d
 ie Möglichkeit dich ganz mit deinem Körper zu verbinden. Dabei gehen wir li
 ebevoll und achtsam mit uns um.Ort: Hebammenzentrum | Lazarettgasse 8, 1090
  WienPreis:80 Euro (für alle 5 Termine)\n09.04. I 16.04. I 23.04. I 07.05. 
 I 14.05.2019\nDrop In möglich!\nMehr Infos und Anmeldung:info@treehut-yoga.
 comwww.treehut-yoga.com (http://www.treehut-yoga.com/?fbclid=IwAR1YZGzy5psh
 n3qrGkfm9ukzKDLO0fekcTGR9oHZ4BRcvFA0DQEiYBN_8UQ)\n
X-ALT-DESC;FMTTYPE=text/html:<p><span style="display: inline !important; float: none; background-color: 
 transparent; color: #1d2129; font-family: Helvetica,Arial,sans-serif; font-
 size: 14px; font-style: normal; font-variant: normal; font-weight: 400; let
 ter-spacing: normal; orphans: 2; text-align: left; text-decoration: none; t
 ext-indent: 0px; text-transform: none; -webkit-text-stroke-width: 0px; whit
 e-space: pre-wrap; word-spacing: 0px;">Du erwartest ein Baby und möchtest d
 iese schöne Zeit in vollen Zügen genießen?</span></p><p><span style="displa
 y: inline !important; float: none; background-color: transparent; color: #1
 d2129; font-family: Helvetica,Arial,sans-serif; font-size: 14px; font-style
 : normal; font-variant: normal; font-weight: 400; letter-spacing: normal; o
 rphans: 2; text-align: left; text-decoration: none; text-indent: 0px; text-
 transform: none; -webkit-text-stroke-width: 0px; white-space: pre-wrap; wor
 d-spacing: 0px;">Beim Yoga kannst du deine Körperwahrnehmung intensivieren 
 und dich auf diese besondere Situation voll und ganz einlassen. Nimm dir Ze
 it für dich und dein Baby und fühl dich in deinem Körper so richtig wohl.</
 span></p><p><span style="display: inline !important; float: none; backgroun
 d-color: transparent; color: #1d2129; font-family: Helvetica,Arial,sans-ser
 if; font-size: 14px; font-style: normal; font-variant: normal; font-weight:
  400; letter-spacing: normal; orphans: 2; text-align: left; text-decoration
 : none; text-indent: 0px; text-transform: none; -webkit-text-stroke-width: 
 0px; white-space: pre-wrap; word-spacing: 0px;">Die Einheit beginnen wir mi
 t einer kurzen Vorstellungsrunde zum Austausch der individuellen Bedürfniss
 e. Die nachfolgende Praxis ist körperstärkend und gibt dir die Möglichkeit 
 dich ganz mit deinem Körper zu verbinden. Dabei gehen wir liebevoll und ach
 tsam mit uns um.</span><br style="background-color: transparent; color: #1d
 2129; font-family: Helvetica,Arial,sans-serif; font-size: 14px; font-style:
  normal; font-variant: normal; font-weight: 400; letter-spacing: normal; or
 phans: 2; text-align: left; text-decoration: none; text-indent: 0px; text-t
 ransform: none; -webkit-text-stroke-width: 0px; white-space: pre-wrap; word
 -spacing: 0px;" /><br style="background-color: transparent; color: #1d2129;
  font-family: Helvetica,Arial,sans-serif; font-size: 14px; font-style: norm
 al; font-variant: normal; font-weight: 400; letter-spacing: normal; orphans
 : 2; text-align: left; text-decoration: none; text-indent: 0px; text-transf
 orm: none; -webkit-text-stroke-width: 0px; white-space: pre-wrap; word-spac
 ing: 0px;" /><span style="display: inline !important; float: none; backgrou
 nd-color: transparent; color: #1d2129; font-family: Helvetica,Arial,sans-se
 rif; font-size: 14px; font-style: normal; font-variant: normal; font-weight
 : 400; letter-spacing: normal; orphans: 2; text-align: left; text-decoratio
 n: none; text-indent: 0px; text-transform: none; -webkit-text-stroke-width:
  0px; white-space: pre-wrap; word-spacing: 0px;">Ort: Hebammenzentrum | La
 zarettgasse 8, 1090 Wien</span><br style="background-color: transparent; co
 lor: #1d2129; font-family: Helvetica,Arial,sans-serif; font-size: 14px; fon
 t-style: normal; font-variant: normal; font-weight: 400; letter-spacing: no
 rmal; orphans: 2; text-align: left; text-decoration: none; text-indent: 0px
 ; text-transform: none; -webkit-text-stroke-width: 0px; white-space: pre-wr
 ap; word-spacing: 0px;" /><span style="display: inline !important; float: n
 one; background-color: transparent; color: #1d2129; font-family: Helvetica,
 Arial,sans-serif; font-size: 14px; font-style: normal; font-variant: normal
 ; font-weight: 400; letter-spacing: normal; orphans: 2; text-align: left; t
 ext-decoration: none; text-indent: 0px; text-transform: none; -webkit-text-
 stroke-width: 0px; white-space: pre-wrap; word-spacing: 0px;">Preis:80 Eur
 o (für alle 5 Termine)</span></p><p><span style="display: inline !important
 ; float: none; background-color: transparent; color: #1d2129; font-family: 
 Helvetica,Arial,sans-serif; font-size: 14px; font-style: normal; font-varia
 nt: normal; font-weight: 400; letter-spacing: normal; orphans: 2; text-alig
 n: left; text-decoration: none; text-indent: 0px; text-transform: none; -we
 bkit-text-stroke-width: 0px; white-space: pre-wrap; word-spacing: 0px;">09.
 04. I 16.04. I 23.04. I 07.05. I 14.05.2019</span></p><p><span style="displ
 ay: inline !important; float: none; background-color: transparent; color: #
 1d2129; font-family: Helvetica,Arial,sans-serif; font-size: 14px; font-styl
 e: normal; font-variant: normal; font-weight: 400; letter-spacing: normal; 
 orphans: 2; text-align: left; text-decoration: none; text-indent: 0px; text
 -transform: none; -webkit-text-stroke-width: 0px; white-space: pre-wrap; wo
 rd-spacing: 0px;">Drop In möglich!</span></p><p><span style="display: inlin
 e !important; float: none; background-color: transparent; color: #1d2129; f
 ont-family: Helvetica,Arial,sans-serif; font-size: 14px; font-style: normal
 ; font-variant: normal; font-weight: 400; letter-spacing: normal; orphans: 
 2; text-align: left; text-decoration: none; text-indent: 0px; text-transfor
 m: none; -webkit-text-stroke-width: 0px; white-space: pre-wrap; word-spacin
 g: 0px;">Mehr Infos und Anmeldung:</span><br style="background-color: trans
 parent; color: #1d2129; font-family: Helvetica,Arial,sans-serif; font-size:
  14px; font-style: normal; font-variant: normal; font-weight: 400; letter-s
 pacing: normal; orphans: 2; text-align: left; text-decoration: none; text-i
 ndent: 0px; text-transform: none; -webkit-text-stroke-width: 0px; white-spa
 ce: pre-wrap; word-spacing: 0px;" /><span style="display: inline !important
 ; float: none; background-color: transparent; color: #1d2129; font-family: 
 Helvetica,Arial,sans-serif; font-size: 14px; font-style: normal; font-varia
 nt: normal; font-weight: 400; letter-spacing: normal; orphans: 2; text-alig
 n: left; text-decoration: none; text-indent: 0px; text-transform: none; -we
 bkit-text-stroke-width: 0px; white-space: pre-wrap; word-spacing: 0px;">inf
 o@treehut-yoga.com</span><br style="background-color: transparent; color: #
 1d2129; font-family: Helvetica,Arial,sans-serif; font-size: 14px; font-styl
 e: normal; font-variant: normal; font-weight: 400; letter-spacing: normal; 
 orphans: 2; text-align: left; text-decoration: none; text-indent: 0px; text
 -transform: none; -webkit-text-stroke-width: 0px; white-space: pre-wrap; wo
 rd-spacing: 0px;" /><a style="background-color: transparent; color: #365899
 ; cursor: pointer; font-family: Helvetica,Arial,sans-serif; font-size: 14px
 ; font-style: normal; font-variant: normal; font-weight: 400; letter-spacin
 g: normal; orphans: 2; text-align: left; text-decoration: none; text-indent
 : 0px; text-transform: none; -webkit-text-stroke-width: 0px; white-space: p
 re-wrap; word-spacing: 0px;" href="http://www.treehut-yoga.com/?fbclid=IwAR
 1YZGzy5pshn3qrGkfm9ukzKDLO0fekcTGR9oHZ4BRcvFA0DQEiYBN_8UQ" target="_blank" 
 rel="nofollow noopener noreferrer" data-lynx-mode="hover" data-lynx-uri="ht
 tps://l.facebook.com/l.php?u=http%3A%2F%2Fwww.treehut-yoga.com%2F%3Ffbclid%
 3DIwAR1YZGzy5pshn3qrGkfm9ukzKDLO0fekcTGR9oHZ4BRcvFA0DQEiYBN_8UQ&amp;h=AT3x6
 zK31s-zj3mIhqHWz-U1EJdSCDt6C33bJ6Cgdniq1_-v7MuWrLwvst58IqvpU_EJnI9T1vqyvfbK
 p26pAoPLVboVT87pX5DagzDVzAARoq_YBFzAmjpVbb_79M_0og">www.treehut-yoga.com</a
 ></p>
CONTACT:info@treehut-yoga.com
X-EXTRAINFO:[preis='8000'][anmeldung='true']
DTSTAMP:20260425T024332
DTSTART:20190514T151500
DTEND:20190514T163000
SEQUENCE:0
TRANSP:OPAQUE
END:VEVENT
END:VCALENDAR