BEGIN:VCALENDAR
VERSION:2.0
PRODID:-//jEvents 2.0 for Joomla//EN
CALSCALE:GREGORIAN
METHOD:PUBLISH
BEGIN:VEVENT
UID:a6202dba878cf1a07c60a69ff6ea529d
CATEGORIES:9. Bezirk
CREATED:20190228T233757
SUMMARY:Mawiba MAMA BABY TANZ
LOCATION:QUER-FIT-EIN\, im 9. Bezirk\, Hörlgasse 4/3
DESCRIPTION:Liebe Babymamas, liebe Babypapas, liebe Babys!\n \nMAWIBA ist ein Tanzkonze
 pt für Eltern und ihre Babys, ein sanfter Einstieg um nach der Geburt wiede
 r aktiv zu werden. Während die Mamas zu beckenbodenstärkenden Choreografien
  tanzen und dabei ihre Haltung und Fitness verbessern, kuscheln sich die Ba
 bys in einer Tragehilfe an sie. Gemeinsam mit einem erfahrenen Expertenteam
  entwickelt, bietet MAWIBA spezielle Choreografien zur Beckenbodenstärkung 
 und Verbesserung der Körperhaltung.\nJeder darf mittanzen - es sind keine V
 orkenntnisse notwendig!\n \nWO? QUER-FIT-EIN, im 9. Bezirk, Hörlgasse 4/3\n
  \nWANN? \nImmer Mittwochs:\nUm 15:15Uhr  tanzen wir los.\nAb 15:00 Uhr ist
  das Studio besetzt. Wir tanzen eine Stunde und anschließend gehört der Rau
 m 30 min uns, um zu plaudern.\n \nALTER DER BABYS?\nNach dem postnatale Che
 ck darf die Mama mit Ihrem Baby starten, solange wie sie es tragen möchte!\
 n \nKURSKOSTEN?\n10€ Schnupperstunde\n13€ Einzelstunde \n35€ 3er Karte\n55€
  5er Karte\n \nANMELDUNG erforderlich!\nmawiba@melaniewaldbauer.com\n0664/7
 5522859 oder\nwww.mawiba.net (Kurse für 1090 aussuchen).\n \nIch freue auf 
 Euch!\nBis dann,\nEure\nMela\n
X-ALT-DESC;FMTTYPE=text/html:<p>Liebe Babymamas, liebe Babypapas, liebe Babys!</p><p> </p><p>MAWIBA ist 
 ein Tanzkonzept für Eltern und ihre Babys, ein sanfter Einstieg um nach der
  Geburt wieder aktiv zu werden. Während die Mamas zu beckenbodenstärkenden 
 Choreografien tanzen und dabei ihre Haltung und Fitness verbessern, kuschel
 n sich die Babys in einer Tragehilfe an sie. Gemeinsam mit einem erfahrenen
  Expertenteam entwickelt, bietet MAWIBA spezielle Choreografien zur Beckenb
 odenstärkung und Verbesserung der Körperhaltung.</p><p>Jeder darf mittanzen
  - es sind keine Vorkenntnisse notwendig!</p><p> </p><p>WO? QUER-FIT-EIN, i
 m 9. Bezirk, Hörlgasse 4/3</p><p> </p><p>WANN?<span class="Apple-converted-
 space"> </span></p><p>Immer Mittwochs:</p><p>Um 15:15Uhr<span class="Apple-
 converted-space">  </span>tanzen wir los.</p><p>Ab 15:00 Uhr ist das Studio
  besetzt. Wir tanzen eine Stunde und anschließend gehört der Raum 30 min un
 s, um zu plaudern.</p><p> </p><p>ALTER DER BABYS?</p><p>Nach dem postnatale
  Check darf die Mama mit Ihrem Baby starten, solange wie sie es tragen möch
 te!</p><p> </p><p>KURSKOSTEN?</p><p>10€ Schnupperstunde</p><p>13€ Einzelstu
 nde<span class="Apple-converted-space"> </span></p><p>35€ 3er Karte</p><p>5
 5€ 5er Karte</p><p> </p><p>ANMELDUNG erforderlich!</p><p>mawiba@melaniewald
 bauer.com</p><p>0664/75522859 oder</p><p>www.mawiba.net (Kurse für 1090 aus
 suchen).</p><p> </p><p>Ich freue auf Euch!</p><p>Bis dann,</p><p>Eure</p><p
 >Mela</p>
CONTACT:Mela: mawiba@melaniewaldbauer.com 0664/75522859 oder www.mawiba.net (Kurse für 1090 aussuchen).
DTSTAMP:20260425T153444
DTSTART:20190307T141500
DTEND:20190307T154500
SEQUENCE:0
TRANSP:OPAQUE
END:VEVENT
END:VCALENDAR