BEGIN:VCALENDAR
VERSION:2.0
PRODID:-//jEvents 2.0 for Joomla//EN
CALSCALE:GREGORIAN
METHOD:PUBLISH
BEGIN:VEVENT
UID:699f63436a90d605a9debe23c3d71bd7
CATEGORIES:9. Bezirk
CREATED:20190228T234119
SUMMARY:Mawiba MAMA BABY TANZ
LOCATION:QUER-FIT-EIN\, im 9. Bezirk\, Hörlgasse 4/3
DESCRIPTION: \nLiebe Babymamas, liebe Babypapas, liebe Babys!\n MAWIBA ist ein Tanzkonz
 ept für Eltern und ihre Babys, ein sanfter Einstieg um nach der Geburt wied
 er aktiv zu werden. Während die Mamas zu beckenbodenstärkenden Choreografie
 n tanzen und dabei ihre Haltung und Fitness verbessern, kuscheln sich die B
 abys in einer Tragehilfe an sie. Gemeinsam mit einem erfahrenen Expertentea
 m entwickelt, bietet MAWIBA spezielle Choreografien zur Beckenbodenstärkung
  und Verbesserung der Körperhaltung.\nJeder darf mittanzen - es sind keine 
 Vorkenntnisse notwendig!\n \nWO? QUER-FIT-EIN, im 9. Bezirk, Hörlgasse 4/3\
 n \nWANN? Immer Mittwochs:\nUm 15:15Uhr  tanzen wir los.\nAb 15:00 Uhr ist 
 das Studio besetzt. Wir tanzen eine Stunde und anschließend gehört der Raum
  30 min uns, um zu plaudern.\n \nALTER DER BABYS? Nach dem postnatale Check
  darf die Mama mit Ihrem Baby starten, solange wie sie es tragen möchte!\n 
 \nKURSKOSTEN?\n10€ Schnupperstunde\n13€ Einzelstunde \n35€ 3er Karte\n55€ 5
 er Karte\n \nANMELDUNG erforderlich!\nmawiba@melaniewaldbauer.com\n0664/755
 22859 oder\nwww.mawiba.net (Kurse für 1090 aussuchen).\n \nIch freue auf Eu
 ch!\nEure\nMela\n
X-ALT-DESC;FMTTYPE=text/html:<p style="text-align: center;"> </p><p style="text-align: center;"><strong>
 Liebe Babymamas, liebe Babypapas, liebe Babys!</strong></p><p style="text-a
 lign: center;"> MAWIBA ist ein Tanzkonzept für Eltern und ihre Babys, ein s
 anfter Einstieg um nach der Geburt wieder aktiv zu werden. Während die Mama
 s zu beckenbodenstärkenden Choreografien tanzen und dabei ihre Haltung und 
 Fitness verbessern, kuscheln sich die Babys in einer Tragehilfe an sie. Gem
 einsam mit einem erfahrenen Expertenteam entwickelt, bietet MAWIBA speziell
 e Choreografien zur Beckenbodenstärkung und Verbesserung der Körperhaltung.
 </p><p style="text-align: center;"><strong>Jeder darf mittanzen - es sind k
 eine Vorkenntnisse notwendig!</strong></p><p style="text-align: center;"> <
 /p><p style="text-align: center;"><strong>WO?</strong> QUER-FIT-EIN, im 9. 
 Bezirk, Hörlgasse 4/3</p><p style="text-align: center;"> </p><p style="text
 -align: center;"><strong>WANN? </strong>Immer Mittwochs:</p><p style="text-
 align: center;">Um 15:15Uhr<span class="Apple-converted-space">  </span>tan
 zen wir los.</p><p style="text-align: center;">Ab 15:00 Uhr ist das Studio 
 besetzt. Wir tanzen eine Stunde und anschließend gehört der Raum 30 min uns
 , um zu plaudern.</p><p style="text-align: center;"> </p><p style="text-ali
 gn: center;"><strong>ALTER DER BABYS? </strong>Nach dem postnatale Check da
 rf die Mama mit Ihrem Baby starten, solange wie sie es tragen möchte!</p><p
  style="text-align: center;"> </p><p style="text-align: center;"><strong>KU
 RSKOSTEN?</strong></p><p style="text-align: center;">10€ Schnupperstunde</p
 ><p style="text-align: center;">13€ Einzelstunde<span class="Apple-converte
 d-space"> </span></p><p style="text-align: center;">35€ 3er Karte</p><p sty
 le="text-align: center;">55€ 5er Karte</p><p style="text-align: center;"> <
 /p><p style="text-align: center;"><strong>ANMELDUNG erforderlich!</strong><
 /p><p style="text-align: center;">mawiba@melaniewaldbauer.com</p><p style="
 text-align: center;">0664/75522859 oder</p><p style="text-align: center;">w
 ww.mawiba.net (Kurse für 1090 aussuchen).</p><p style="text-align: center;"
 > </p><p style="text-align: center;">Ich freue auf Euch!</p><p style="text-
 align: center;">Eure</p><p style="text-align: center;"><strong>Mela</strong
 ></p>
CONTACT:Mela: mawiba@melaniewaldbauer.com, 0664/75522859 oder www.mawiba.net (Kurse für 1090 aussuchen).
DTSTAMP:20260425T153523
DTSTART:20190306T141500
DTEND:20190306T154500
SEQUENCE:0
TRANSP:OPAQUE
END:VEVENT
END:VCALENDAR