BEGIN:VCALENDAR
VERSION:2.0
PRODID:-//jEvents 2.0 for Joomla//EN
CALSCALE:GREGORIAN
METHOD:PUBLISH
BEGIN:VEVENT
UID:d493ebd5b5506735e0472a64faaaa11c
CATEGORIES:6. Bezirk
CREATED:20190303T202741
SUMMARY:Bewegungswelt
LOCATION:6.\, Sandwirtgasse 13/12
DESCRIPTION:<h2><a href="https://www.biolino.at/spielgruppen/bewegungswelt/">Spielgrupp
 e Bewegungswelt</a></h2><h3>Für Kinder von 8 bis 18 Monaten</h3><p> </p><p>
 <strong>Spielgruppe mit Bewegungsschwerpunkt</strong></p><p>- Kletterbogen<
 /p><p>- Kriechtunnel</p><p>- Bewegungs-Landschaften</p><p>- Ballspiele</p><
 p>- Sing- und Tanzspiele</p><p>Die <strong>Bewegungswelt</strong>  ist für 
 Kinder von <strong>8 Monaten - 1,5 Jahren</strong>. Wir krabbeln, kuscheln,
  singen, springen, kriechen und tanzen – und haben gemeinsam jede Menge Spa
 ß. So stärken wir Körpergefühl, Grobmotorik und die Lust, uns zu bewegen. W
 ir zeigen dir, wie du aus einfachen Alltagsgegenständen und Möbeln attrakti
 ve Bewegungswelten für dein Kind zaubern kannst.</p><h3>Termine im Winterse
 mester 2018/19</h3><p><strong>März 2019</strong> 5.3., 12.3., 19.3., 26.3.,
 </p><p><strong>April</strong> <strong>2019</strong> 2.4., 9.4., 30.4.,</p><
 p><strong>Mai 2019</strong> 7.5., 14.5., 21.5, 28.5.,</p><p><strong>Juni 20
 19</strong> 4.6., 12.6., 18.6., 25.6.;</p><p> </p><p>Einstieg jederzeit mög
 lich mit der flexiblen <a href="https://www.app.anoah.at/page/f?apiKey=d5ba
 690e090442e0adb5861b99d5425f">Blockkarte</a>!</p><p><a href="http://www.bio
 lino.at">www.biolino.at</a></p><p><a href="mailto:martina.novak@biolino.at,
 ">martina.novak@biolino.at,</a> 0677 628 929 70</p><p>Sandwirtgasse 13/12, 
 1060 Wien</p><p> </p><p>Wir freuen uns auf euch! &lt;3</p><p>Martina und da
 s Biolino Team</p>
CONTACT:martina.novak@biolino.at, 077 628 929 70
X-EXTRAINFO:[preis='1500'][anmeldung='true']
DTSTAMP:20260423T225603
DTSTART:20190402T090000
DTEND:20190402T100000
SEQUENCE:0
TRANSP:OPAQUE
END:VEVENT
END:VCALENDAR