BEGIN:VCALENDAR
VERSION:2.0
PRODID:-//jEvents 2.0 for Joomla//EN
CALSCALE:GREGORIAN
METHOD:PUBLISH
BEGIN:VEVENT
UID:0a4e77b32dbb012a5de1067ced1a6524
CATEGORIES:6. Bezirk
CREATED:20190303T204139
SUMMARY:Sinnesspielgruppe
LOCATION:6.\, Sandwirtgasse 13/12
DESCRIPTION:<h2><a href="https://www.biolino.at/spielgruppen/sinnesspielgruppe/">Spielg
 ruppe Biolino Sinnesspiel</a></h2><h3>Für Kinder von 10 bis 24 Monaten</h3>
 <p>Die <strong>Sinnesspielgruppe</strong><strong> </strong>ist für Kinder v
 on <strong>10 bis 24 Monaten</strong>. Beim Spielen und Experimentieren mit
  unterschiedlichen Materialien aus Holz, Stoff, Kork, Porzellan und vielem 
 mehr, werden alle Sinne deines Kindes angesprochen. Wir hören, riechen, sch
 mecken, tasten, sehen und bewegen uns durch den Sinnesraum, der in jeder Ei
 nheit neue Anregungen bereit hält. So wird spielerisch die gesamte Entwickl
 ung deines Kindes gefördert und es kann in seinem Tempo die Welt entdecken.
  </p><p><strong>Themen in der Sinnesspielgrupp: </strong></p><h6>7.3. Fühlg
 arten: Hart, weich, spitz, samtig, glatt, wellig - unser Fühlgarten regt de
 n Tastsinn deines Kindes an und lädt zum Experimentieren ein.<br />14.3. Bä
 lleparadies: Es gibt allerlei Bälle zum Sehen, Fühlen und Be-Greifen. Wir e
 rkunden, rollen, werfen, fangen, tragen und massieren. Was deinem Kind wohl
  noch alles einfällt?  <br />21.3. Die Welt der Klänge: Die Welt der Klänge
  ist sehr spannend für die Kleinen. Schon früh experimentieren sie mit ihre
 r eigenen Stimme und finden Gefallen daran. Heute spielen wir mit unseren M
 usikinstrumenten und entdecken, welche Töne wir ihnen entlocken können.  <b
 r />28.3. Sensorikflaschen: Was glitzert denn da so blau? Und wie sieht es 
 aus, wenn sich rotes Öl mit Wasser vermischt? Die Sensorikflaschen sind ein
  Erlebnis für Groß und Klein und eignen sich hervorragend für stundenlanges
  Experimentieren und Entdecken. <br />4.4. Klangballons: Die Welt der Kläng
 e ist so spannend für die Kleinen. Alles wird geschüttelt und aneinander ge
 schlagen um Töne zu erzeugen. Heute spielen wir mit lustig bunten Klangball
 ons und entdecken, was sich in ihnen versteckt.<br />11.4 Bürsten bürsten: 
 Wir werden mit harten, weichen, großen und kleinen Bürsten über verschieden
 e Materialien bürsten. Wie fühlen sich die Bürsten an und welche Geräusche 
 entstehen, wenn man über verschiedene Gegenstände bürstet. Alle Sinne deine
 s Kindes werden angeregt.<br />25.4 Fühlwannen: Wir erkunden mit unseren Hä
 nden und Füßen ganz besondere Fühlwannen. Wer sich traut, darf sie auch bli
 nd befühlen. Die verschiedenen Materialien sind spannend und regen dein Kin
 d zum Experimentieren an.<br />2.5. Bälleparadies: Es gibt allerlei Bälle z
 um Sehen, Fühlen und Be-Greifen. Wir erkunden, rollen, werfen, fangen, trag
 en und massieren. Was deinem Kind wohl noch alles einfällt?<br />9.5.Klette
 rgarten: Wir klettern und balancieren über verschiedene Hindernisse und neh
 men unseren Körper und seine Grenzen dabei bewusst war. Kinder können sehr 
 gut einschätzen, was sie schon können. Wir üben uns im Vertrauen und stärke
 n so das Selbstvertrauen deines Kindes.<br />16.5. Farben &amp; Formen: Übe
 rall trifft dein Kind auf Farben und Formen. Schon früh begeistern sich kle
 ine Kinder dafür. Wir vergleichen, sortieren und experimentieren mit unters
 chiedlichen Farben und Formen. <br />23.5. Fühlwannen: Wir erkunden mit uns
 eren Händen und Füßen ganz besondere Fühlwannen. Wer sich traut, darf sie a
 uch blind befühlen. Die verschiedenen Materialien sind spannend und regen d
 ein Kind zum Experimentieren an.<br />6.6. Geschmackskarussell: Süß, sauer,
  salzig, bitter - wie aufregend und abenteuerlich all die verschiedenen Ges
 chmäcker zu probieren. Vielleicht sogar blind? Kannst du mir sagen, welche 
 Frucht du gerade schmeckst?<br />13.6. Plitsch-Platsch Wasserspaß: Wasser h
 at beinahe eine magische Anziehungskraft auf dein Kind? Dann komm vorbei zu
 m Plitsch-Platsch Wasserspaß. Wir schütten, plantschen, tropfen, gießen und
  machen alles so richtig nass.<br />27.6. Krabbelparcour: Oben drüber, unte
 n durch - wir krabbeln auf allen Vieren und bezwingen allerlei Hindernisse,
  was die beiden Gehirnhälften besonders gut miteinander vernetzt.</h6><p> <
 /p><p> </p><h3>Termine im Sommersemster 2019</h3><p><strong>März 2019</stro
 ng> 7.3., 14.3., 21.3., 28.3.,</p><p><strong>April 2019</strong> 4.4., 11.4
 ., 25.4.,</p><p><strong>Mai 2019</strong>  2.5., 9.5., 16.5., 23.5.,</p><p>
 <strong>Juni 2019</strong>  6.6., 14.6., 27.6.,</p><p> </p><p>Einstieg jede
 rzeit möglich mit der flexiblen <a href="https://www.app.anoah.at/page/f?ap
 iKey=d5ba690e090442e0adb5861b99d5425f">Blockkarte</a>!</p><p><a href="http:
 //www.biolino.at">www.biolino.at</a></p><p><a href="mailto:martina.novak@bi
 olino.at,">martina.novak@biolino.at,</a> 0677 628 929 70</p><p>Sandwirtgass
 e 13/12, 1060 Wien</p><p> </p><p>Wir freuen uns auf euch! &lt;3</p><p>Marti
 na und das Biolino Team</p><p> </p>
CONTACT:martina.novak@biolino.at, 0677 628 929 70
X-EXTRAINFO:[preis='1500'][anmeldung='true']
DTSTAMP:20260423T225506
DTSTART:20190404T090000
DTEND:20190404T100000
SEQUENCE:0
TRANSP:OPAQUE
END:VEVENT
END:VCALENDAR