BEGIN:VCALENDAR
VERSION:2.0
PRODID:-//jEvents 2.0 for Joomla//EN
CALSCALE:GREGORIAN
METHOD:PUBLISH
BEGIN:VEVENT
UID:5e5b78f951cc8b97d596a0e613bd9b51
CATEGORIES:6. Bezirk
CREATED:20190303T204500
SUMMARY:Baby-Klangraum
LOCATION:6.\,  Sandwirtgasse 13/12
DESCRIPTION:Spielgruppe Baby-Klangraum (https://www.biolino.at/spielgruppen/klangraum/)
 Für Kinder von 6 bis 12 Monaten Spielgruppe mit musikalischem Schwerpunkt\n
 - Singspiele\n- Experimentieren mit Instrumenten\n- Klangerfahrungen\n \nDe
 r Biolino Baby-Klangraum ist für Kinder von 6 - 12 Monaten. Wir experimenti
 eren mit Tönen, Musikinstrumenten und der eigenen Stimme. Die Kinder können
  Klanghölzer, Trommeln, Rasseln und andere Basisinstrumente erforschen und 
 die Welt der Klänge kennen lernen. Du bastelst mit deinem Kind einfache "In
 strumente" und kannst sie mit nach Hause nehmen. Musik macht Spaß und förde
 rt die ganzheitliche Entwicklung unserer Kinder.\nTermine im Sommersemester
  2019März 2019 5.3., 12.3., 19.3., 26.3.,\nApril 2019 2.4., 9.4., 30.4.,\nM
 ai 2019 7.5., 14.5., 21.5, 28.5.,\nJuni 2019 4.6., 12.6., 18.6., 25.6.;\nEi
 nstieg jederzeit möglich mit der flexiblen Blockkarte (https://www.app.anoa
 h.at/page/f?apiKey=d5ba690e090442e0adb5861b99d5425f)!\nwww.biolino.at (http
 ://www.biolino.at)\nmartina.novak@biolino.at, (mailto:martina.novak@biolino
 .at,) 0677 628 929 70\nSandwirtgasse 13/12, 1060 Wien\n \nWir freuen uns au
 f euch! &lt;3\nMartina und das Biolino Team\n
X-ALT-DESC;FMTTYPE=text/html:<h2><a href="https://www.biolino.at/spielgruppen/klangraum/">Spielgruppe Ba
 by-Klangraum</a></h2><h3 id="cc-m-header-10366011297">Für Kinder von 6 bis 
 12 Monaten</h3><figure class="cc-imagewrapper cc-m-image-align-1"> </figure
 ><p><strong>Spielgruppe mit musikalischem Schwerpunkt</strong></p><p>- Sing
 spiele</p><p>- Experimentieren mit Instrumenten</p><p>- Klangerfahrungen</p
 ><p> </p><p>Der <strong>Biolino Baby</strong>-<strong>Klangraum</strong> is
 t für Kinder von <strong>6 - 12 Monaten</strong>. Wir experimentieren mit T
 önen, Musikinstrumenten und der eigenen Stimme. Die Kinder können Klanghölz
 er, Trommeln, Rasseln und andere Basisinstrumente erforschen und die Welt d
 er Klänge kennen lernen. Du bastelst mit deinem Kind einfache "Instrumente"
  und kannst sie mit nach Hause nehmen. Musik macht Spaß und fördert die gan
 zheitliche Entwicklung unserer Kinder.</p><h3 id="cc-m-header-11412548797">
 Termine im Sommersemester 2019</h3><p><strong>März 2019</strong> 5.3., 12.3
 ., 19.3., 26.3.,</p><p><b>April</b> <strong>2019</strong> 2.4., 9.4., 30.4.
 ,</p><p><strong>Mai 2019</strong> 7.5., 14.5., 21.5, 28.5.,</p><p><strong>J
 uni 2019</strong> 4.6., 12.6., 18.6., 25.6.;</p><p>Einstieg jederzeit mögli
 ch mit der flexiblen <a href="https://www.app.anoah.at/page/f?apiKey=d5ba69
 0e090442e0adb5861b99d5425f">Blockkarte</a>!</p><p><a href="http://www.bioli
 no.at">www.biolino.at</a></p><p><a href="mailto:martina.novak@biolino.at,">
 martina.novak@biolino.at,</a> 0677 628 929 70</p><p>Sandwirtgasse 13/12, 10
 60 Wien</p><p> </p><p>Wir freuen uns auf euch! &lt;3</p><p>Martina und das 
 Biolino Team</p>
CONTACT:martina.novak@biolino.at, 0677 628 929 70
X-EXTRAINFO:[preis='1500'][anmeldung='true']
DTSTAMP:20260423T182246
DTSTART:20190312T083000
DTEND:20190312T093000
SEQUENCE:0
TRANSP:OPAQUE
END:VEVENT
END:VCALENDAR