BEGIN:VCALENDAR
VERSION:2.0
PRODID:-//jEvents 2.0 for Joomla//EN
CALSCALE:GREGORIAN
METHOD:PUBLISH
BEGIN:VEVENT
UID:3a7ed7777136ea60ff93a6b9cf00981d
CATEGORIES:18. Bezirk
CREATED:20190304T120939
SUMMARY:Mama-Baby-Yoga
DESCRIPTION:Mama Baby Yoga ist ein sanftes Yoga um Deinen Körper und Geist nach der Geb
 urt zu stärken und zu regenerieren. Die Asanas (Körperübungen), Rückbildung
 selemente und Atemübungen während der Stunde unterstützen Dich und Dein Bab
 y in Deiner neuen Mutterschaft. \nDu darfst natürlich nach Bedarf stillen, 
 füttern, wickeln o.ä.\nFür Mamas mit Babys ab ca. 6 Wochen bis Krabbelalter
 !\nBitte komm 10 Minuten früher um ein entspanntes Ankommen zu ermöglichen 
 und bring eine Decke oder Tuch mit. \nSophie freut sich sehr auf Dich, auf 
 Dein Baby und auf die gemeinsame Zeit!\nFür weitere Infos gerne unter eder.
 sophie@gmail.com (mailto:eder.sophie@gmail.com) melden.\nKurstag: \n Mittwo
 ch 9:00-10:00 Uhr mit Sophie\nStart: 13.3.2019\nTermine: 13.3., 20.3., 27.3
 ., 3.4., 10.4., 17.4,\nKosten:\n 6 Wochen-Kurs: € 90,-\nInfo &amp; Anmeldun
 g:\noffice@spielringel.at (mailto:kontakt@schwangerschaft-elternschaft.at)\
 n
X-ALT-DESC;FMTTYPE=text/html:<div id="c421" class="frame frame-default frame-type-text frame-background-
  frame-no-backgroundimage frame-space-before-none frame-space-after-none"><
 div class="frame-container"><div class="frame-inner"><div><p>Mama Baby Yoga
  ist ein sanftes Yoga um Deinen Körper und Geist nach der Geburt zu stärken
  und zu regenerieren. Die Asanas (Körperübungen), Rückbildungselemente und 
 Atemübungen während der Stunde unterstützen Dich und Dein Baby in Deiner ne
 uen Mutterschaft. </p></div><div><p>Du darfst natürlich nach Bedarf stillen
 , füttern, wickeln o.ä.</p></div><div><p>Für Mamas mit Babys ab ca. 6 Woche
 n bis Krabbelalter!</p></div><div><p>Bitte komm 10 Minuten früher um ein en
 tspanntes Ankommen zu ermöglichen und bring eine Decke oder Tuch mit. </p><
 /div><div><p>Sophie freut sich sehr auf Dich, auf Dein Baby und auf die gem
 einsame Zeit!</p></div><div><p>Für weitere Infos gerne unter <a href="mailt
 o:eder.sophie@gmail.com">eder.sophie@gmail.com</a> melden.</p><p><span clas
 s="text-primary">Kurstag: </span><br /> Mittwoch 9:00-10:00 Uhr mit Sophie<
 /p><p><span class="text-primary">Start:</span> 13.3.2019</p><p><span class=
 "text-primary">Termine:</span> 13.3., 20.3., 27.3., 3.4., 10.4., 17.4,</p><
 p><span class="text-primary">Kosten:</span><br /> 6 Wochen-Kurs: € 90,-</p>
 <p><span class="text-primary">Info &amp; Anmeldung:</span><br /><a href="ma
 ilto:kontakt@schwangerschaft-elternschaft.at">office@spielringel.at</a></p>
 </div></div></div></div>
DTSTAMP:20260425T132227
DTSTART:20190417T070000
DTEND:20190417T080000
SEQUENCE:0
TRANSP:OPAQUE
END:VEVENT
END:VCALENDAR