BEGIN:VCALENDAR
VERSION:2.0
PRODID:-//jEvents 2.0 for Joomla//EN
CALSCALE:GREGORIAN
METHOD:PUBLISH
BEGIN:VEVENT
UID:a44231aa93b12d7bad412c22fc08f3fb
CATEGORIES:18. Bezirk
CREATED:20190304T122350
SUMMARY:Babymassagekurs mit Nina
LOCATION:SPIELRINGEL Mollgasse 11-13
DESCRIPTION:<p><strong>Für: </strong>Säuglinge ab ca. 6 Wochen bis ca. 6 Monaten (Krabb
 elalter)!</p><p>Regelmäßige Babymassage…</p><ul class="list-normal"><li>sti
 llt das Urbedürfnis nach Wärme, Liebe, Berührung, der Geborgenheit und des 
 Angenommenseins</li><li>der innige Körperkontakt fördert den Aufbau des Urv
 ertrauens und stärkt die Bindung zwischen Baby und Mama</li><li>fördert die
  Entwicklung des Nervensystems</li><li>vertieft die Atmung, verbessert die 
 Durchblutung, regt das Immunsystem an und stärkt somit den ganzen Organismu
 s</li><li>intensiviert die Sinneswahrnehmung</li><li>lockert die Muskulatur
 , verbessert das Körperbewusstsein und fördert die Beweglichkeit</li><li>ve
 rringert Koliken und Bauchschmerzen und hilft bei Zahnungsbeschwerden</li><
 li>schafft Entspannung, Harmonie und Ausgeglichenheit</li><li>fördert die K
 ommunikation</li><li>erhöht die Oxytocinausschüttung bei Baby und Mama</li>
 </ul><p> </p><p><strong>Mitzubringen:</strong> Leintuch oder großes Handtuc
 h als Auflage für die Matte, großes Handtuch für das Baby, Stoffwindel, Wic
 kelunterlage, bequeme und luftige Kleidung für die Mamas/Papas</p><p><span 
 class="text-primary">Termine:</span></p><p>3-Wochen-Kurs: 26.3., 2.4., 9.4.
 </p><p><span class="text-primary">Kosten:</span><br /> € 65,- (3 Einheiten)
 </p><p>Inklusive Öl und Skript</p><p> </p><p><span class="text-primary">Inf
 o &amp; Anmeldung:</span></p><p><a href="mailto:beratung@tragehase.at">bera
 tung@tragehase.at</a></p>
CONTACT:http://schwangerschaft-elternschaft.at/angebote/bewegung-entspannung/babymassage/ (http://schwangerschaft-elternschaft.at/angebote/bewegung-entspannung/babymassage/)
X-EXTRAINFO:[preis='6500'][anmeldung='true']
DTSTAMP:20260425T132833
DTSTART:20190402T083000
DTEND:20190402T092000
SEQUENCE:0
TRANSP:OPAQUE
END:VEVENT
END:VCALENDAR