BEGIN:VCALENDAR
VERSION:2.0
PRODID:-//jEvents 2.0 for Joomla//EN
CALSCALE:GREGORIAN
METHOD:PUBLISH
BEGIN:VEVENT
UID:fca664e6fa1e8a7085642e9df3cc00a4
CATEGORIES:22. Bezirk
CREATED:20190304T182400
SUMMARY:MAWIBA
LOCATION:Tanzschule Schwebach\, Maculangasse 1b\, 1220 Wien
DESCRIPTION:<p>MAWIBA ist ein Tanzkonzept mit sanftem Beckenbodentraining für Schwanger
 e und Mamas mit Babys, die Spaß am Tanzen haben. Gemeinsam mit einem Expert
 enteam entwickelt, bietet MAWIBA spezielle Choreografien zur Beckenbodenakt
 ivierung und Verbesserung der Körperhaltung.</p><p><span style="text-decora
 tion: underline;">4-Wochen-Kurs</span><br /><span class="text_exposed_show"
 ><br />DIENSTAG,   5.3.2019 von 10:00-11:00 Uhr<br />DIENSTAG, 12.3.2019 vo
 n 10:00-11:00 Uhr<br />DIENSTAG, 19.3.2019 von 10:00-11:00 Uhr<br />DIENSTA
 G, 26.3.2019 von 10:00-11:00 Uhr</span></p><p><span class="text_exposed_sho
 w">Tanzschule Schwebach, Maculangasse 1b, 1220 Wien</span></p><p><span styl
 e="text-decoration: underline;">Kurskosten</span>: € 5,00 Schnupperstunde /
  € 13,00 Einzelstunde / € 50,00 für den 4 Wochenkurs.</p><p><span style="te
 xt-decoration: underline;">Kursdauer</span>: 60 min.</p><p>Die Anmeldung lä
 uft ?</p><p><span style="text-decoration: underline;">Anmeldung unter</span
 >: bfink@mawibatrainer.com</p>
CONTACT:bfink@mawibatrainer.com
X-EXTRAINFO:[preis='000'][anmeldung='true']
DTSTAMP:20260423T152843
DTSTART:20190326T090000
DTEND:20190326T100000
SEQUENCE:0
TRANSP:OPAQUE
END:VEVENT
END:VCALENDAR