BEGIN:VCALENDAR
VERSION:2.0
PRODID:-//jEvents 2.0 for Joomla//EN
CALSCALE:GREGORIAN
METHOD:PUBLISH
BEGIN:VEVENT
UID:c10bd6a0c75e4649d23774cd51a9485f
CATEGORIES:11. Bezirk
CREATED:20190311T142024
SUMMARY:Klavierunterricht mit Baby
LOCATION:VHS Simmering\, Gottschalkgasse 10
DESCRIPTION:Klavierspielen macht nicht nur Spaß, es fördert auch die emotionale Entwick
 lung von klein auf. In diesem Kurs für musikinteressierte Eltern können Sie
  Ihr Baby einfach zum Unterricht mitnehmen.\nNach dem Kurs können Sie Basis
 techniken und Notenkenntnisse anwenden. Sie kennen die Funktionsweise Ihres
  Instruments sowie musikalische Begriffe und Zusammenhänge. Sie wissen, wie
  man Stücke erarbeitet und können selbst gewählte Stücke darbieten.\nDie Ei
 nheit dauert je eine Stunde á 50min und kann zu einem fixen Termin zwischen
  10 und 15 Uhr gewählt werden.\nAnmeldungen unter simmering@vhs.at, (mailto
 :simmering@vhs.at,) 01 891 74 111 000 oder https://vhs.at/simmering (https:
 //vhs.at/simmering).\nKursort: VHS Simmering, Gottschalkgasse 10, 1110 Wien
 \n \n
X-ALT-DESC;FMTTYPE=text/html:<p>Klavierspielen macht nicht nur Spaß, es fördert auch die emotionale Entw
 icklung von klein auf. In diesem Kurs für musikinteressierte Eltern können 
 Sie Ihr Baby einfach zum Unterricht mitnehmen.<br />Nach dem Kurs können Si
 e Basistechniken und Notenkenntnisse anwenden. Sie kennen die Funktionsweis
 e Ihres Instruments sowie musikalische Begriffe und Zusammenhänge. Sie wiss
 en, wie man Stücke erarbeitet und können selbst gewählte Stücke darbieten.<
 /p><p>Die Einheit dauert je eine Stunde á 50min und kann zu einem fixen Ter
 min zwischen 10 und 15 Uhr gewählt werden.</p><p>Anmeldungen unter <a href=
 "mailto:simmering@vhs.at,">simmering@vhs.at,</a> 01 891 74 111 000 oder <a 
 href="https://vhs.at/simmering">https://vhs.at/simmering</a>.</p><p>Kursort
 : VHS Simmering, Gottschalkgasse 10, 1110 Wien</p><p> </p>
CONTACT:01 891 74 111 000
X-EXTRAINFO:[preis='11700'][anmeldung='true']
DTSTAMP:20260423T152539
DTSTART:20190506T080000
DTEND:20190506T130000
SEQUENCE:0
TRANSP:OPAQUE
END:VEVENT
END:VCALENDAR