BEGIN:VCALENDAR
VERSION:2.0
PRODID:-//jEvents 2.0 for Joomla//EN
CALSCALE:GREGORIAN
METHOD:PUBLISH
BEGIN:VEVENT
UID:ac32fd7ff4c621239857fff822db5734
CATEGORIES:10. Bezirk
CREATED:20190320T132413
SUMMARY:MAWIBA - Mama-Baby-Tanz
LOCATION:Studio Primorama\, Sissy-Löwinger-Weg 7
DESCRIPTION:MAWIBA ist ein Tanzkonzept mit sanften Beckenbodentraining für alle Mamis d
 ie gerne tanzen, sich was Gutes gönnen und eine entspannte Stunde mit ihren
  Babys und anderen Mamis verbringen wollen\nSchnuppern/Einstieg jederzeit m
 öglich\n
X-ALT-DESC;FMTTYPE=text/html:<p>MAWIBA ist ein Tanzkonzept mit sanften Beckenbodentraining für alle Mami
 s die gerne tanzen, sich was Gutes gönnen und eine entspannte Stunde mit ih
 ren Babys und anderen Mamis verbringen wollen</p><p>Schnuppern/Einstieg jed
 erzeit möglich</p>
CONTACT:Martina 0699/11513744
X-EXTRAINFO:[preis='000'][anmeldung='false']
DTSTAMP:20260424T143000
DTSTART:20190403T070000
DTEND:20190403T080000
SEQUENCE:0
TRANSP:OPAQUE
END:VEVENT
END:VCALENDAR