BEGIN:VCALENDAR
VERSION:2.0
PRODID:-//jEvents 2.0 for Joomla//EN
CALSCALE:GREGORIAN
METHOD:PUBLISH
BEGIN:VEVENT
UID:61efe54b11ff6fdb3d8e9295e68671c6
CATEGORIES:15. Bezirk
CREATED:20190320T224707
SUMMARY:TANZ UND BEWEGUNG FÜR MÜTTER UND BABIES
LOCATION:Neubaugürtel 7
DESCRIPTION:….miteinander in Bewegung kommen, die Energie ins Fließen bringen, den eige
 nen Körper in den Mittelpunkt der Aufmerksamkeit stellen ,\nmit dem Baby ge
 meinsam tanzen, ein gemeinsames Tempo und neue Bewegungsmuster finden,\nsan
 ft dehnen und strecken oder auch einfach wild und fröhlich drauflos tanzen 
 und den Moment mit dem Baby genießen.\nFür Mütter ist Zeit, in der Bewegung
  Erlebtes zu erzählen und Körper-Erfahrungen auszutauschen, sich im geborge
 nen Rahmen einer vertrauten Gruppe miteinander zu bewegen,\ndie Kinder erle
 ben, bei den Mamas geborgen, Rhythmus und Musik.\nZu Kursbeginn gibt eine T
 rageberaterin Tipps fürs Tragen beim Tanzen.\nKosten: 130€ für 10 Einheiten
 .\n
X-ALT-DESC;FMTTYPE=text/html:<p>….miteinander in Bewegung kommen, die Energie ins Fließen bringen, den e
 igenen Körper in den Mittelpunkt der Aufmerksamkeit stellen ,<br />mit dem 
 Baby gemeinsam tanzen, ein gemeinsames Tempo und neue Bewegungsmuster finde
 n,<br />sanft dehnen und strecken oder auch einfach wild und fröhlich drauf
 los tanzen und den Moment mit dem Baby genießen.<br />Für Mütter ist Zeit, 
 in der Bewegung Erlebtes zu erzählen und Körper-Erfahrungen auszutauschen, 
 sich im geborgenen Rahmen einer vertrauten Gruppe miteinander zu bewegen,<b
 r />die Kinder erleben, bei den Mamas geborgen, Rhythmus und Musik.</p><p>Z
 u Kursbeginn gibt eine Trageberaterin Tipps fürs Tragen beim Tanzen.</p><p>
 Kosten: 130€ für 10 Einheiten.</p>
CONTACT:office@kinderatelier.at
X-EXTRAINFO:[preis='13000'][anmeldung='true']
DTSTAMP:20260424T130406
DTSTART:20190530T080000
DTEND:20190530T093000
SEQUENCE:0
TRANSP:OPAQUE
END:VEVENT
END:VCALENDAR