BEGIN:VCALENDAR
VERSION:2.0
PRODID:-//jEvents 2.0 for Joomla//EN
CALSCALE:GREGORIAN
METHOD:PUBLISH
BEGIN:VEVENT
UID:4185c382bb4f80212020324e2274dac1
CATEGORIES:15. Bezirk
CREATED:20190320T225346
SUMMARY:FRÜHLINGS-TANZKURS FÜR ELTERN UND KINDER VON 1½ BIS 3½ JAHREN
LOCATION:Neubaugürtel 7
DESCRIPTION:…unbeschwert miteinander laufen und hüpfen, stampfen und klatschen, rollen 
 und springen, spielen mit Bällen, Tüchern, Seilen, Säcken, …Bewegungsspiele
  und einfache Kreistänze lassen „Grosse“ und „Kleine“ mit- und voneinander 
 lernen und ganz einfach vergnügt sein.\nKursleitung: Bitti Jurda\nKosten: 1
 30 Euro für 10 Nachmittage\n
X-ALT-DESC;FMTTYPE=text/html:<p>…unbeschwert miteinander laufen und hüpfen, stampfen und klatschen, roll
 en und springen, spielen mit Bällen, Tüchern, Seilen, Säcken, …Bewegungsspi
 ele und einfache Kreistänze lassen „Grosse“ und „Kleine“ mit- und voneinand
 er lernen und ganz einfach vergnügt sein.</p><p>Kursleitung: Bitti Jurda</p
 ><p>Kosten: 130 Euro für 10 Nachmittage</p>
CONTACT:office@kinderatelier.at
X-EXTRAINFO:[preis='13000'][anmeldung='true']
DTSTAMP:20260424T162439
DTSTART:20190529T143000
DTEND:20190529T160000
SEQUENCE:0
TRANSP:OPAQUE
END:VEVENT
END:VCALENDAR