BEGIN:VCALENDAR
VERSION:2.0
PRODID:-//jEvents 2.0 for Joomla//EN
CALSCALE:GREGORIAN
METHOD:PUBLISH
BEGIN:VEVENT
UID:b36d2b499ea1487c9d3382721664036e
CATEGORIES:18. Bezirk
CREATED:20190329T104856
SUMMARY:Still- und Austauschgruppe
LOCATION:SPIELRINGEL Mollgasse 11-13
DESCRIPTION:Aller Anfang ist schwer - oder doch nicht?\nUm das Stillen ranken sich viel
 e Mythen und dadurch entstehen Ängste. Oft stellen sich werdende Mütter die
  Frage "Werde ich stillen können?" und werden von Sorgen geplagt, wie "In m
 einer Familie hatten alle Frauen wenig Milch, das betrifft mich sicherlich 
 auch." oder "Mein Baby will ständig an die Brust, es reicht ihm wohl nicht"
 .\nIn dieser Stillgruppe möchte ich frischgebackenen Mamas, aber auch werde
 nden Mamas die Möglichkeit des Austausches geben. Unklarheiten werden bespr
 ochen und für euch individuelle Möglichkeiten gefunden, eine harmonische St
 illbeziehung aufbauen zu können.\nSollte es mit dem Stillen nicht so gut kl
 appen, oder ihr euch mit dem Thema unwohl fühlen, stehe ich euch selbstvers
 tändlich auch gerne jederzeit mit Rat und Tat zur Seite.\n 
X-ALT-DESC;FMTTYPE=text/html:<p>Aller Anfang ist schwer - oder doch nicht?</p><p>Um das Stillen ranken s
 ich viele Mythen und dadurch entstehen Ängste. Oft stellen sich werdende Mü
 tter die Frage "Werde ich stillen können?" und werden von Sorgen geplagt, w
 ie "In meiner Familie hatten alle Frauen wenig Milch, das betrifft mich sic
 herlich auch." oder "Mein Baby will ständig an die Brust, es reicht ihm woh
 l nicht".</p><p>In dieser Stillgruppe möchte ich frischgebackenen Mamas, ab
 er auch werdenden Mamas die Möglichkeit des Austausches geben. Unklarheiten
  werden besprochen und für euch individuelle Möglichkeiten gefunden, eine h
 armonische Stillbeziehung aufbauen zu können.</p><p>Sollte es mit dem Still
 en nicht so gut klappen, oder ihr euch mit dem Thema unwohl fühlen, stehe i
 ch euch selbstverständlich auch gerne jederzeit mit Rat und Tat zur Seite.<
 /p><h2 class="element-header "> </h2>
CONTACT:http://www.schwangerschaft-elternschaft.at/angebote/beratung-begleitung/still-und-austauschgruppe/ (http://www.schwangerschaft-elternschaft.at/angebote/beratung-begleitung/still-und-austauschgruppe/)
X-EXTRAINFO:[preis='1000'][anmeldung='false']
DTSTAMP:20260425T030110
DTSTART:20190408T073000
DTEND:20190408T090000
SEQUENCE:0
TRANSP:OPAQUE
END:VEVENT
END:VCALENDAR