BEGIN:VCALENDAR
VERSION:2.0
PRODID:-//jEvents 2.0 for Joomla//EN
CALSCALE:GREGORIAN
METHOD:PUBLISH
BEGIN:VEVENT
UID:2e3377878d12eaf838ce9c48884bc3ed
CATEGORIES:15. Bezirk
CREATED:20190409T232937
SUMMARY:Frühlings-Tanzkurs
LOCATION:Neubaugürtel 7
DESCRIPTION:TANZ UND SPIEL\nFÜR ELTERN UND KINDER VON 1 BIS 3 JAHREN\n...um Blumen renn
 en, sich unter Regenschirmen verstecken, ...in bunte Bänder verwickeln, ...
  Blütenblätter regnen lassen, mit Schmetterlingstüchern tanzen, über 1000 B
 ällchen hüpfen, mit Schwimmstangen spielen,...\n...weil die Zeit mit den Ki
 ndern zu kostbar ist, um sie im Alltag zu verbringen!\nKosten: 90 Euro, 7 V
 ormittage\nKursleitung: Susanna Garic\n
X-ALT-DESC;FMTTYPE=text/html:<div class="page" title="Page 1"><div class="layoutArea"><div class="column
 "><p>TANZ UND SPIEL</p><p>FÜR ELTERN UND KINDER VON 1 BIS 3 JAHREN</p></div
 ></div></div><div class="page" title="Page 1"><div class="layoutArea"><div 
 class="column"><p>...um Blumen rennen, sich unter Regenschirmen verstecken,
  ...in bunte Bänder verwickeln, ... Blütenblätter regnen lassen, mit Schmet
 terlingstüchern tanzen, über 1000 Bällchen hüpfen, mit Schwimmstangen spiel
 en,...</p><div class="page" title="Page 1"><div class="layoutArea"><div cla
 ss="column"><p>...weil die Zeit mit den Kindern zu kostbar ist, um sie im A
 lltag zu verbringen!</p><div class="page" title="Page 1"><div class="layout
 Area"><div class="column"><p>Kosten: 90 Euro, 7 Vormittage<br />Kursleitung
 : Susanna Garic</p></div></div></div></div></div></div></div></div></div>
CONTACT:office@kinderatelier.at
X-EXTRAINFO:[preis='9000'][anmeldung='true']
DTSTAMP:20260424T162445
DTSTART:20190520T080000
DTEND:20190520T093000
SEQUENCE:0
TRANSP:OPAQUE
END:VEVENT
END:VCALENDAR