BEGIN:VCALENDAR
VERSION:2.0
PRODID:-//jEvents 2.0 for Joomla//EN
CALSCALE:GREGORIAN
METHOD:PUBLISH
BEGIN:VEVENT
UID:7f1037ae1573a6adac631ffd84657635
CATEGORIES:10. Bezirk
CREATED:20190502T135519
SUMMARY:BabyShiatsu - Willkommen im Leben!
LOCATION:Dieselgasse 1\, 1100 Wien
DESCRIPTION:<p>Das traditionelle Generationenwissen von Müttern und Großmüttern aus Jap
 an und China für Euch!<br /><br />aceki - BabyShiatsu® ist eine fundierte D
 ruckmassage-Technik, die über viele Jahre von Karin Kalbanter-Wernicke in A
 sien beobachtet und für das westliche Verständnis adaptiert wurde.<br /><br
  />Ich zeige dir, wie BabyShiatsu für euch zuhause funktionert und wie es D
 ir und Deinem Baby hilft, <br /><br />- die Eltern-Kind-Beziehung zu förder
 n, <br />- Bauchschmerzen und Trinkschwierigkeiten zu lindern<br />- das Ei
 nschlafen zu unterstützen <br />- und das Immunsystem zu stärken. <br /><br
  />Shiatsu trägt zur allgemeinen Ausgeglichenheit deines Babys bei - Es fin
 det seine Mitte und geht damit seinen ersten Schritt in Richtung eines harm
 onischen Lebens.<br /><br />Dabei wird der Körper deines Babys mit sanftem,
  deutlichem Druck entlang der zukünftigen Meridiane massiert und das Qi in 
 die richtigen Bahnen des Körper gelenkt. Der Körper erkennt die Impulse - u
 nd zwar dann, wenn er dazu bereit ist.</p><p> </p><p>Für Babys ab etwa 6 Wo
 chen, bis zum Krabbeln.</p><p> </p><p>Der Kurs findet über 4 Wochen jeweils
  von 10 Uhr - etwa 11 Uhr, statt. Danach bleibt uns noch Zeit für Austausch
 .</p><p>16. &amp; 23. Mai / 6. &amp; 14. Juni</p><p>(Achtung - alle Termine
  sind an einem Donnerstag, nur der letzte Termin findet an einem Freitag st
 att!)</p><p> </p><p>Weitere Infos auf <a href="http://www.ausliebezudir.at"
 >www.ausliebezudir.at</a></p><p>(Achtung, Mindestteilnehmerzahl 3, max. 6 P
 ersonen.)</p><p>Anmeldung möglich bis 15. Mai 2018</p><p> </p><p>Ich freue 
 mich auf Euer Kommen!</p><p>Alles Liebe, Marion</p>
CONTACT:Marion Fritz, auszeit@ausliebezudir.at, 0677 62081854
X-EXTRAINFO:[preis='9500'][anmeldung='true']
DTSTAMP:20260424T144816
DTSTART:20190523T080000
DTEND:20190523T090000
SEQUENCE:0
TRANSP:OPAQUE
END:VEVENT
END:VCALENDAR