BEGIN:VCALENDAR
VERSION:2.0
PRODID:-//jEvents 2.0 for Joomla//EN
CALSCALE:GREGORIAN
METHOD:PUBLISH
BEGIN:VEVENT
UID:7c2016c3dcce06bcc5c8aa964b7ddb63
CATEGORIES:6. Bezirk
CREATED:20190507T180043
SUMMARY:Babymassage 
LOCATION:6.\, Sandwirtgasse 13/12
DESCRIPTION:Babymassage\n \nInfos zur Babymassage:\nDie Babymassage fördert das Urvertr
 auen deines Babys und sein Wohlbefinden. Sie wirkt entspannend, lockernd un
 d beruhigend sowohl auf dein Baby als auch auf dich.\nDas Immunsystem deine
 s Babys wird angeregt und sein ganzer Körper gestärkt - sowohl die Muskeln,
  als auch die Beweglichkeit. Schmerzen von Koliken und den Zähnen können ge
 lindert werden und bei Schnupfen können die richtigen Griffe dein Baby beim
  “schneuzen” unterstützen. So innig und zärtlich berührt, wird sich dein Ba
 by entspannen und einen ruhigeren Schlaf genießen.\n \nInhalt:\nDu erfährst
  alle wichtigen Grundlagen der Babymassage und kannst am Ende des Kurses de
 in Baby bei körperlichen und emotionalen Beschwerden unterstützen. Für die 
 Massage wird ein biologisches Öl zur Verfügung gestellt. Du erhältst außerd
 em ein ausführliches Handout mit allen Techniken und Griffen und ein kleine
 s Geschenk.\n - Nach der Babymassage gibt es genug Zeit und Raum für Austau
 sch untereinander und die Beantwortung von Fragen.\n- Die Babymassage ist f
 ür Babys ab ca. 4 Wochen, bis zum individuellen Krabbelalter (ca. 6 Monate)
  geeignet.\nInfos hier: http://bit.ly/2VgjJ3Y\n \n4 Dienstage: 4., 11., 18.
 , 25. Juni 2019\nJeweils von 13.00 - 14.15 Uhr\nKleine, gemütliche Gruppe m
 it nur 5 TN\nKosten: € 79,- inkl. Handout, kleines Geschenk, bereitgestellt
 em biologischen Massageöl\n \nHier geht`s zur Anmeldung:\nhttp://bit.ly/2J3
 PUgE (http://bit.ly/2J3PUgE)\n \nIch freue mich auf euch!\nAlles Liebe,\nMa
 rtina\n \n
X-ALT-DESC;FMTTYPE=text/html:<p>Babymassage</p><p> </p><p>Infos zur Babymassage:</p><p>Die Babymassage f
 ördert das Urvertrauen deines Babys und sein Wohlbefinden. Sie wirkt entspa
 nnend, lockernd und beruhigend sowohl auf dein Baby als auch auf dich.</p><
 p>Das Immunsystem deines Babys wird angeregt und sein ganzer Körper gestärk
 t - sowohl die Muskeln, als auch die Beweglichkeit. Schmerzen von Koliken u
 nd den Zähnen können gelindert werden und bei Schnupfen können die richtige
 n Griffe dein Baby beim “schneuzen” unterstützen. So innig und zärtlich ber
 ührt, wird sich dein Baby entspannen und einen ruhigeren Schlaf genießen.</
 p><p> </p><p>Inhalt:</p><p>Du erfährst alle wichtigen Grundlagen der Babyma
 ssage und kannst am Ende des Kurses dein Baby bei körperlichen und emotiona
 len Beschwerden unterstützen. Für die Massage wird ein biologisches Öl zur 
 Verfügung gestellt. Du erhältst außerdem ein ausführliches Handout mit alle
 n Techniken und Griffen und ein kleines Geschenk.</p><p> - Nach der Babymas
 sage gibt es genug Zeit und Raum für Austausch untereinander und die Beantw
 ortung von Fragen.</p><p>- Die Babymassage ist für Babys ab ca. 4 Wochen, b
 is zum individuellen Krabbelalter (ca. 6 Monate) geeignet.</p><p>Infos hier
 : http://bit.ly/2VgjJ3Y</p><p> </p><p>4 Dienstage: 4., 11., 18., 25. Juni 2
 019</p><p>Jeweils von 13.00 - 14.15 Uhr</p><p>Kleine, gemütliche Gruppe mit
  nur 5 TN</p><p>Kosten: € 79,- inkl. Handout, kleines Geschenk, bereitgeste
 lltem biologischen Massageöl</p><p> </p><p>Hier geht`s zur Anmeldung:</p><p
 ><a href="http://bit.ly/2J3PUgE">http://bit.ly/2J3PUgE</a></p><p> </p><p>Ic
 h freue mich auf euch!</p><p>Alles Liebe,</p><p>Martina</p><p> </p>
CONTACT:martina.novak@biolino.at, 0677 628 929 70
X-EXTRAINFO:[preis='7900'][anmeldung='true']
DTSTAMP:20260424T174853
DTSTART:20190618T060000
DTEND:20190618T150000
SEQUENCE:0
TRANSP:OPAQUE
END:VEVENT
END:VCALENDAR