BEGIN:VCALENDAR
VERSION:2.0
PRODID:-//jEvents 2.0 for Joomla//EN
CALSCALE:GREGORIAN
METHOD:PUBLISH
BEGIN:VEVENT
UID:3942046b2d8e8678d4ee36f562dca072
CATEGORIES:19. Bezirk
CREATED:20190520T133610
SUMMARY:Frauen - Heldinnen des Alltags
LOCATION:Atelier SINNBILDER im Woho-Space\, Boschstraße 54
DESCRIPTION:Selbsterfahrungsgruppe: Frauen - Heldinnen des Alltags\n Es geht um Dich al
 s Frau – mit all Deinen Wünschen, Sehnsüchten, Gedanken und Bedürfnissen.\n
  In dieser regelmäßig stattfindenden Gruppe stimmen wir uns zu Beginn mit e
 iner Entspannungsübung auf ein Thema ein; gefördert durch Achtsamkeit und R
 espekt uns und den anderen gegenüber nehmen wir unsere momentane Befindlich
 keit, unsere Bedürfnisse und Anliegen wahr und lassen unsere innere Welt in
  Farben und Formen entstehen. Die entstehenden Gefühle und Bilder werden sc
 hließlich mit verschiedensten Farben und Materialien zum Ausdruck gebracht.
  Die anschließende gemeinsame Betrachtung und Besprechung ermöglicht es, Em
 pfindungen zu vertiefen, Klarheit zu schaffen und neue Perspektiven zu eröf
 fnen.\nWichtig: es sind keine künstlerischen Kenntnisse oder Talente erford
 erlich; es geht um die Freude am Tun und an der eigenen (wieder)entdeckten 
 Kreativität.\n \nTermine: 28.05., 04.06. und 18.06.\nAnmeldung und weitere 
 Infos unter: ute@sinnbilder.eu (mailto:ute@sinnbilder.eu) oder 0664-8416611
 \nwww.sinnbilder.eu\n
X-ALT-DESC;FMTTYPE=text/html:<p><u>Selbsterfahrungsgruppe: Frauen - Heldinnen des Alltags</u></p><p> Es 
 geht um Dich als Frau – mit all Deinen Wünschen, Sehnsüchten, Gedanken und 
 Bedürfnissen.</p><p> In dieser regelmäßig stattfindenden Gruppe stimmen wir
  uns zu Beginn mit einer Entspannungsübung auf ein Thema ein; gefördert dur
 ch Achtsamkeit und Respekt uns und den anderen gegenüber nehmen wir unsere 
 momentane Befindlichkeit, unsere Bedürfnisse und Anliegen wahr und lassen u
 nsere innere Welt in Farben und Formen entstehen. Die entstehenden Gefühle 
 und Bilder werden schließlich mit verschiedensten Farben und Materialien zu
 m Ausdruck gebracht. Die anschließende gemeinsame Betrachtung und Besprechu
 ng ermöglicht es, Empfindungen zu vertiefen, Klarheit zu schaffen und neue 
 Perspektiven zu eröffnen.</p><p>Wichtig: es sind keine künstlerischen Kennt
 nisse oder Talente erforderlich; es geht um die Freude am Tun und an der ei
 genen (wieder)entdeckten Kreativität.</p><p> </p><p>Termine: 28.05., 04.06.
  und 18.06.</p><p>Anmeldung und weitere Infos unter: <a href="mailto:ute@si
 nnbilder.eu">ute@sinnbilder.eu</a> oder 0664-8416611</p><p>www.sinnbilder.e
 u</p>
CONTACT:ute@sinnbilder.eu, 0664-8416611
X-EXTRAINFO:[preis='3500'][anmeldung='true']
DTSTAMP:20260424T142933
DTSTART:20190618T080000
DTEND:20190618T093000
SEQUENCE:0
TRANSP:OPAQUE
END:VEVENT
END:VCALENDAR