BEGIN:VCALENDAR
VERSION:2.0
PRODID:-//jEvents 2.0 for Joomla//EN
CALSCALE:GREGORIAN
METHOD:PUBLISH
BEGIN:VEVENT
UID:64024841720ca0c2f5b801a3175b6fa4
CATEGORIES:6. Bezirk
CREATED:20190610T195545
SUMMARY:offenes Baby-Cafe
LOCATION:6.\, Sandwirtgasse 13/12
DESCRIPTION:Biolino Baby-CaféKaffeehaus-Flair mit KinderspielzeugGenieße unsere angeneh
 m kühlen Räumlichkeiten und einen erfrischenden Eistee oder Eiskaffee währe
 nd dein Kind unsere hochwertigen Holzspielzeuge entdeckt. \nWir laden dich 
 und dein Kind montags in unser Biolino Baby-Café ein. Bei biologischem Fair
 -Trade Kaffee, auf Wunsch auch koffeinfrei oder mit Pflanzenmilch, leckerem
  Bio-Kuchen und österreichischen Bio-Fruchtsäften lässt es sich besonders g
 ut plaudern und spielen. Wir achten bei der Auswahl unserer Holzspielsachen
  darauf, dass sie frei von Schadstoffen sind und nutzen Bio-Bambus Geschirr
  von Biobu.\nUhrzeit: 9.00 - 13.00 Uhr\nWo: Biolino Institut, Sandwirtgasse
  13, 1060 Wien\nKosten: € 5,-/Familie\nBitte vergewissere dich hier (https:
 //www.facebook.com/Biolino.Institut.Magazin.Handel/) ob wir geöffnet haben.
 \n \nwww.biolino.at (http://www.biolino.at)\n
X-ALT-DESC;FMTTYPE=text/html:<h1>Biolino Baby-Café</h1><h2>Kaffeehaus-Flair mit Kinderspielzeug</h2><p>G
 enieße unsere angenehm kühlen Räumlichkeiten und einen erfrischenden Eistee
  oder Eiskaffee während dein Kind unsere hochwertigen Holzspielzeuge entdec
 kt. </p><p>Wir laden dich und dein Kind montags in unser Biolino Baby-Café 
 ein. Bei biologischem Fair-Trade Kaffee, auf Wunsch auch koffeinfrei oder m
 it Pflanzenmilch, leckerem Bio-Kuchen und österreichischen Bio-Fruchtsäften
  lässt es sich besonders gut plaudern und spielen. Wir achten bei der Auswa
 hl unserer Holzspielsachen darauf, dass sie frei von Schadstoffen sind und 
 nutzen Bio-Bambus Geschirr von Biobu.</p><p><strong>Uhrzeit</strong>: 9.00 
 - 13.00 Uhr</p><p><strong>Wo</strong>: Biolino Institut, Sandwirtgasse 13, 
 1060 Wien</p><p><strong>Kosten</strong>: € 5,-/Familie</p><p>Bitte vergewis
 sere dich <a href="https://www.facebook.com/Biolino.Institut.Magazin.Handel
 /">hier</a> ob wir geöffnet haben.</p><p> </p><p><a href="http://www.biolin
 o.at">www.biolino.at</a></p>
CONTACT:067762892970, martina.novak@biolino.at
DTSTAMP:20260424T195513
DTSTART:20190805T070000
DTEND:20190805T110000
SEQUENCE:0
TRANSP:OPAQUE
END:VEVENT
END:VCALENDAR