BEGIN:VCALENDAR
VERSION:2.0
PRODID:-//jEvents 2.0 for Joomla//EN
CALSCALE:GREGORIAN
METHOD:PUBLISH
BEGIN:VEVENT
UID:54b106c779b52970d087065267f4366f
CATEGORIES:6. Bezirk
CREATED:20190610T200157
SUMMARY:Baby-Klangraum
LOCATION:6.\, Sandwirtgasse 13/12
DESCRIPTION:Spielgruppe Baby-KlangraumFür Kinder von 6 bis 12 MonatenKursleitung: Marti
 na\nKurstag: Dienstag\nKurszeit: 09.30 - 10.30 Uhr\nSpielgruppe mit musikal
 ischem Schwerpunkt\n- Singspiele\n- Experimentieren mit Instrumenten\n- Kla
 ngerfahrungen\n \nDer Biolino Baby-Klangraum ist für Kinder von 6 - 12 Mona
 ten. Wir experimentieren mit Tönen, Musikinstrumenten und der eigenen Stimm
 e. Die Kinder können Klanghölzer, Trommeln, Rasseln und andere Basisinstrum
 ente erforschen und die Welt der Klänge kennen lernen. Musik macht Spaß und
  fördert die ganzheitliche Entwicklung unserer Kinder.\n \nTermine im Somme
 r 2019\n2. und 9. Juli\n6., 13., 20. und 27. August\n \nBuchbar mit der Blo
 ckkarte  (https://www.biolino.at/spielgruppen/die-blockkarte/)oder der Somm
 erspaß-Karte (https://www.biolino.at/sommerspass/)\nwww.biolino.at (http://
 www.biolino.at)\n \n
X-ALT-DESC;FMTTYPE=text/html:<h1>Spielgruppe Baby-Klangraum</h1><h3>Für Kinder von 6 bis 12 Monaten</h3>
 <p><strong>Kursleitung</strong>: Martina</p><p><strong>Kurstag</strong>: Di
 enstag</p><p><strong>Kurszeit</strong>: 09.30 - 10.30 Uhr</p><p><strong>Spi
 elgruppe mit musikalischem Schwerpunkt</strong></p><p>- Singspiele</p><p>- 
 Experimentieren mit Instrumenten</p><p>- Klangerfahrungen</p><p> </p><p>Der
  <strong>Biolino Baby</strong>-<strong>Klangraum</strong> ist für Kinder vo
 n <strong>6 - 12 Monaten</strong>. Wir experimentieren mit Tönen, Musikinst
 rumenten und der eigenen Stimme. Die Kinder können Klanghölzer, Trommeln, R
 asseln und andere Basisinstrumente erforschen und die Welt der Klänge kenne
 n lernen. Musik macht Spaß und fördert die ganzheitliche Entwicklung unsere
 r Kinder.</p><p> </p><p><strong>Termine im Sommer 2019</strong></p><p>2. un
 d 9. Juli</p><p>6., 13., 20. und 27. August</p><p> </p><p>Buchbar mit der <
 a title="Blockkarte " href="https://www.biolino.at/spielgruppen/die-blockka
 rte/">Blockkarte </a>oder der <a href="https://www.biolino.at/sommerspass/"
 >Sommerspaß-Karte</a></p><p><a href="http://www.biolino.at">www.biolino.at<
 /a></p><p> </p>
CONTACT:067762892970, martina.novak@biolino.at
DTSTAMP:20260424T212232
DTSTART:20190709T073000
DTEND:20190709T083000
SEQUENCE:0
TRANSP:OPAQUE
END:VEVENT
END:VCALENDAR