BEGIN:VCALENDAR
VERSION:2.0
PRODID:-//jEvents 2.0 for Joomla//EN
CALSCALE:GREGORIAN
METHOD:PUBLISH
BEGIN:VEVENT
UID:cf617afac435c9c1d9805d9ca2bc3b2f
CATEGORIES:6. Bezirk
CREATED:20190610T201226
SUMMARY:Baby-Atelier
LOCATION:6.\, Sandwirtgasse 13/12
DESCRIPTION:Biolino Baby-AtelierFür Kinder ab dem Sitzalter bis 2,5 JahreKursleitung: M
 artina\nKurstag: Mittwoch\nGruppe 1: 09.30 - 10.30 Uhr\n Gruppe 2: 11.00 - 
 12.00 Uhr\nSpielgruppe mit dem Schwerpunkt haptische Sinnesschulung\n- Expe
 rimentieren mit Farben, Konsistenzen und unterschiedlichsten Materialien\nD
 ie kleinen Künstlerinnen und Künstler können im Biolino Baby-Atelier nach H
 erzenslust mit selbst hergestellten Bio-Farben matschen und gatschen, ohne 
 dass Mama oder Papa nachher aufräumen müssen. Über das ganze Semester verte
 ilt führen wir immer wieder neues Erlebnismaterial in die Gruppe ein.\n \n 
 Klebrig, matschig, bröselig, kratzig: Sand, Erde, Getreidekörner, Holz und 
 viele andere haptische Anregungen warten auf experimentierfreudige Entdecke
 r*innen. Die Kinder können nach Herzenslust die Bio-Farben und Materialien 
 mischen und dabei mit allen Sinnen erleben, wie sie ihre Eigenschaften verä
 ndern.\nTermine im Sommer 2019\n\n - und 10. Juli7., 14., 21., 28. August\n
  \nBuchbar mit der Blockkarte  (https://www.biolino.at/spielgruppen/die-blo
 ckkarte/)oder der Sommerspaß-Karte (https://www.biolino.at/sommerspass/)\nw
 ww.biolino.at (http://www.biolino.at/)\n
X-ALT-DESC;FMTTYPE=text/html:<h2>Biolino Baby-Atelier</h2><h3>Für Kinder ab dem Sitzalter bis 2,5 Jahre<
 /h3><p><strong>Kursleitung</strong>: Martina</p><p><strong>Kurstag</strong>
 : Mittwoch</p><p><strong>Gruppe 1</strong>: 09.30 - 10.30 Uhr<br /> <strong
 >Gruppe 2</strong>: 11.00 - 12.00 Uhr</p><p><strong>Spielgruppe mit dem Sch
 werpunkt haptische Sinnesschulung</strong></p><p>- Experimentieren mit Farb
 en, Konsistenzen und unterschiedlichsten Materialien</p><p>Die kleinen Küns
 tlerinnen und Künstler können im Biolino Baby-Atelier nach Herzenslust mit 
 selbst hergestellten Bio-Farben matschen und gatschen, ohne dass Mama oder 
 Papa nachher aufräumen müssen. Über das ganze Semester verteilt führen wir 
 immer wieder neues Erlebnismaterial in die Gruppe ein.<br /> <br /> Klebrig
 , matschig, bröselig, kratzig: Sand, Erde, Getreidekörner, Holz und viele a
 ndere haptische Anregungen warten auf experimentierfreudige Entdecker*innen
 . Die Kinder können nach Herzenslust die Bio-Farben und Materialien mischen
  und dabei mit allen Sinnen erleben, wie sie ihre Eigenschaften verändern.<
 /p><p><strong>Termine im Sommer 2019</strong></p><ol start="3"><li>und 10. 
 Juli</li></ol><p>7., 14., 21., 28. August</p><p> </p><p>Buchbar mit der <a 
 href="https://www.biolino.at/spielgruppen/die-blockkarte/">Blockkarte </a>o
 der der <a href="https://www.biolino.at/sommerspass/">Sommerspaß-Karte</a><
 /p><p><a href="http://www.biolino.at/">www.biolino.at</a></p>
CONTACT:067762892970, martina.novak@biolino.at
DTSTAMP:20260424T212238
DTSTART:20190710T090000
DTEND:20190710T100000
SEQUENCE:0
TRANSP:OPAQUE
END:VEVENT
END:VCALENDAR