BEGIN:VCALENDAR
VERSION:2.0
PRODID:-//jEvents 2.0 for Joomla//EN
CALSCALE:GREGORIAN
METHOD:PUBLISH
BEGIN:VEVENT
UID:259a684f61ed5d90c28b01e07915da45
CATEGORIES:3. Bezirk
CREATED:20190620T203234
SUMMARY:DERKREATIVRAUM3- Entdeckungsraum basierend auf den Erkenntnissen von Emmi Pikler und Elfriede Hengstenberg
LOCATION:derkreativraum3
DESCRIPTION:Die Spiel- und Bewegungsgruppe bietet Zeit und Raum zum Klettern, Rollen, S
 chwingen, Hüpfen, Balancieren, Forschen ... oder einfach nur Zuschauen. Es 
 ist ein Ort der freie Spiel- und Bewegungsentwicklung ermöglicht, ein Ort d
 er die Kinder zum eigenständigen Erforschen einlädt.\nDie Kinder lernen sic
 h und anderen Zeit zu lassen, selbständig zu experimentieren und in Kontakt
  mit sich, den anderen und ihrer Umgebung zu sein.\nThemen wie u.a. inneres
  und äußeres Gleichgewicht, die Sinne schärfen, die eigenen Fähigkeiten ent
 falten, Erholung und Ruhe stehen im Mittelpunkt dieses Angebotes.\nKostenlo
 ser Infoabend vor Kursbeginn!\n
X-ALT-DESC;FMTTYPE=text/html:<p>Die Spiel- und Bewegungsgruppe bietet Zeit und Raum zum Klettern, Rollen
 , Schwingen, Hüpfen, Balancieren, Forschen ... oder einfach nur Zuschauen. 
 Es ist ein Ort der freie Spiel- und Bewegungsentwicklung ermöglicht, ein Or
 t der die Kinder zum eigenständigen Erforschen einlädt.</p><p>Die Kinder le
 rnen sich und anderen Zeit zu lassen, selbständig zu experimentieren und in
  Kontakt mit sich, den anderen und ihrer Umgebung zu sein.</p><p>Themen wie
  u.a. inneres und äußeres Gleichgewicht, die Sinne schärfen, die eigenen Fä
 higkeiten entfalten, Erholung und Ruhe stehen im Mittelpunkt dieses Angebot
 es.</p><p>Kostenloser Infoabend vor Kursbeginn!</p>
CONTACT:www.derkreativraum.at
X-EXTRAINFO:[preis='22100'][anmeldung='true']
DTSTAMP:20260424T142933
DTSTART:20190703T073000
DTEND:20190703T084500
SEQUENCE:0
TRANSP:OPAQUE
END:VEVENT
END:VCALENDAR