BEGIN:VCALENDAR
VERSION:2.0
PRODID:-//jEvents 2.0 for Joomla//EN
CALSCALE:GREGORIAN
METHOD:PUBLISH
BEGIN:VEVENT
UID:ac6102390b8af6f1962e26641f5abb26
CATEGORIES:21. Bezirk
CREATED:20190625T153118
SUMMARY:CANTIENICA®- TIEFENMUSKELTRAINING
LOCATION:1210 Wien\, Little Suns\, Donaufelder Straße 103/2/2
DESCRIPTION:Die CANTIENICA®- Methode ist eine wundervolle Trainingsmethode,\nbei der di
 e gesamte Tiefenmuskulatur gezielt gekräftigt und trainiert wird.\nVerspann
 ungen an ihren Schultern, am Rücken, Nacken und\nErschlaffung der Beckenbod
 enmuskulatur usw. haben ein Ende.\nDie äußeren Muskeln lassen los, weil die
  Tiefenmuskulatur ihre Arbeit übernimmt.\n \nIst dieser Kurs für Sie geeign
 et?\nCANTIENICA® kann jeder ausüben – egal ob alt oder jung, sportlich oder
  nicht.\nTrainiert und angeleitet wird in Kleingruppen zu max. 8 Personen, 
 damit Sie ihren persönlichen Trainingserfolg sicher erreichen.\n \nWann:\nD
 ienstag 19.00 – 20.00\nHerbst 1/ 2019\n5x á 60 Minuten                     
   Paketpreis € 85.-\nan folgenden Terminen: 03.09., 10.09., 24.09., 01.10. 
 und 08.10.2019\n \nWo:\nLittle Suns\n1210 Wien, Donaufelder Str. 103/2/2\nA
 nmeldung unbedingt eforderlich unter claudia.loeb@chello.at  \nweiter Detai
 ls unter www.claudialöb.com\n \nBitte bringen Sie bequeme, körpernahe Turnb
 ekleidung und wenn möglich rutschfeste Socken mit.\nMatten und Trainingszub
 ehör sind vor Ort.\n
X-ALT-DESC;FMTTYPE=text/html:<p>Die CANTIENICA<sup>®</sup>- Methode ist eine wundervolle Trainingsmethod
 e,</p><p>bei der die gesamte Tiefenmuskulatur gezielt gekräftigt und traini
 ert wird.</p><p>Verspannungen an ihren Schultern, am Rücken, Nacken und</p>
 <p>Erschlaffung der Beckenbodenmuskulatur usw. haben ein Ende.</p><p>Die äu
 ßeren Muskeln lassen los, weil die Tiefenmuskulatur ihre Arbeit übernimmt.<
 /p><p> </p><p><strong>Ist dieser Kurs für Sie geeignet?</strong></p><p>CANT
 IENICA<sup>®</sup> kann jeder ausüben – egal ob alt oder jung, sportlich od
 er nicht.</p><p>Trainiert und angeleitet wird in Kleingruppen zu max. 8 Per
 sonen, damit Sie ihren persönlichen Trainingserfolg sicher erreichen.</p><p
 > </p><p><strong>Wann:</strong></p><p>Dienstag 19.00 – 20.00</p><p><strong>
 Herbst 1/ 2019</strong></p><p>5x á 60 Minuten                       Paketpr
 eis € 85.-</p><p>an folgenden Terminen: 03.09., 10.09., 24.09., 01.10. und 
 08.10.2019</p><p> </p><p><strong>Wo:</strong></p><p>Little Suns</p><p>1210 
 Wien, Donaufelder Str. 103/2/2</p><p>Anmeldung unbedingt eforderlich unter 
 claudia.loeb@chello.at  </p><p>weiter Details unter www.claudialöb.com</p><
 p> </p><p>Bitte bringen Sie bequeme, körpernahe Turnbekleidung und wenn mög
 lich rutschfeste Socken mit.</p><p>Matten und Trainingszubehör sind vor Ort
 .</p>
CONTACT:claudia.loeb@chello.at
DTSTAMP:20260423T165432
DTSTART:20190924T170000
DTEND:20190924T180000
SEQUENCE:0
TRANSP:OPAQUE
END:VEVENT
END:VCALENDAR