BEGIN:VCALENDAR
VERSION:2.0
PRODID:-//jEvents 2.0 for Joomla//EN
CALSCALE:GREGORIAN
METHOD:PUBLISH
BEGIN:VEVENT
UID:88763881d968fdbc85cdea96276d86e5
CATEGORIES:14. Bezirk
CREATED:19700101T010000
SUMMARY:DERKREATIVRAUM14- Musikgarten für 1-2 Jährige Kinder
LOCATION:derkreativraum14
DESCRIPTION:<p>"Musikgarten -Gemeinsam musizieren" ist ein musikpädagisches Konzept, da
 s Kind ab dem Säuglingsalter und deren Eltern zum gemeinsamen Musizieren an
 regt. Durch musikalische Kinderspiele, Tänze und das gemeinsame Singen erfa
 hren die Kinder eine frühe musikalische Förderung. Einfache Instrumente wie
  Klanghölzer, Glöckchen, Rasseln oder Trommeln lassen sie selbst aktiv werd
 en.</p>
CONTACT:www.derkreativraum.at
X-EXTRAINFO:[preis='17600'][anmeldung='true']
DTSTAMP:20260423T182637
DTSTART:20190912T083500
DTEND:20190912T092500
SEQUENCE:0
TRANSP:OPAQUE
END:VEVENT
END:VCALENDAR