BEGIN:VCALENDAR
VERSION:2.0
PRODID:-//jEvents 2.0 for Joomla//EN
CALSCALE:GREGORIAN
METHOD:PUBLISH
BEGIN:VEVENT
UID:2940e19da84867d7c1dc60406b1bfe1a
CATEGORIES:9. Bezirk
CREATED:20190704T125510
SUMMARY:Schwangerschafts-Yoga sanft (Drop-In-Classes ohne Anmeldung!)
LOCATION:FREIRAUM-Institut\, Liechtensteinstr. 10A\, 1090 Wien (U2 Schottentor)
DESCRIPTION:<p><strong>Schwangerschafts-Yoga sanft</strong> (in Drop-In-Classes ohne An
 meldung)</p><p><b>Drop-In-Classes ohne Anmeldung:</b> 90 Minuten Yoga für D
 ich und Dein Baby im Bauch, wundervoll entspannend und eine effektive Gebur
 tsvorbereitung sowie zur persönlichen, mentalen Stärkung für die Geburt.</p
 ><p><b>Yoga-Matten </b>stellen wir kostenlos zur Verfügung.</p><p><b>Sonnen
 tor</b>-Bio-Tee wartet vor und nach allen unseren Drop-In-Classes am FREIRA
 UM-Empfang auf Dich!</p><p> </p><p>Nach der Geburt (postnatal) bieten wir e
 benso in Form von Drop-In-Classes ohne Anmeldung:</p><p><b>Mama-Baby-Yoga 1
 </b> für Babys die noch nicht krabbeln können,</p><p><b>Mama-Baby-Yoga 2</b
 > für Krabbel-Babys bis sie gehen können!</p><p>Weiterführend bieten wir na
 ch dem Mama-Baby-Yoga die <b>Mama-Kleinkind-Yoga-Kurse</b> mit Anmeldung fü
 r Kinder im Alter von 1-3 Jahren.</p><p> </p><p><b>Stundenplan:</b> <a href
 ="https://www.freiraum-institut.at/stundenplan/">Online hier zu finden!</a>
 </p><p><a href="https://www.freiraum-institut.at/oeffnungszeiten/">Öffnungs
 zeiten</a>: 20-30 Minuten vor Beginn einer Drop-In-Class und bis 30 Minuten
  nach Ende der Drop-In-Class!</p><p><b>Mittagspause</b> im FREIRAUM-Institu
 t: Mo-Fr von 12:00-13:30 Uhr</p><p>Häufig gestellte Fragen / FAQ: <a href="
 https://www.freiraum-institut.at/fragen-antworten/">werden hier beantwortet
 </a></p><p><b>Einzelne Drop-In-Classes</b> gibt's bei uns um € 17,- inkl. 2
 0% USt.</p><p>Ein <b>ermäßigtes 10er-Päckchen FREIRAUM-Yoga-Münzen</b> gibt
 's unter anderem für Mamas in Mutterschutz (oder auch für Papas) in Karenz 
 bzw. Babypause um € 145,- inkl. 20% USt.</p><p>...unsere FREIRAUM-Yoga-Münz
 en sind zeitlich unlimitiert nutzbar, können weitergeschenkt oder weiterver
 kauft werden, sind übertragbar und können in ALLEN Drop-In-Classes vom FREI
 RAUM-Institut flexibel genutzt werden:</p><p>eine FREIRAUM-Yoga-Münze ermög
 licht die Teilnahme an einer beliebigen Drop-In-Class. <a href="https://www
 .freiraum-institut.at/preisgestaltung/">Siehe Preisgestaltung</a>!</p><p> <
 /p><p> </p>
CONTACT:http://www.schwangerschaftsyoga.wien (http://www.schwangerschaftsyoga.wien)
DTSTAMP:20260423T181541
DTSTART:20191111T120000
DTEND:20191111T133000
SEQUENCE:0
TRANSP:OPAQUE
END:VEVENT
END:VCALENDAR