BEGIN:VCALENDAR
VERSION:2.0
PRODID:-//jEvents 2.0 for Joomla//EN
CALSCALE:GREGORIAN
METHOD:PUBLISH
BEGIN:VEVENT
UID:67e8e8b7412186875952c4cc478fe270
CATEGORIES:9. Bezirk
CREATED:20190704T133353
SUMMARY:Fantasievoller Kindertanz in Drop-In-Classes ohne Anmeldung!
LOCATION:FREIRAUM-Institut\, Liechtensteinstr. 10A\, 1090 Wien (U2 Schottentor)
DESCRIPTION:für Kinder von 6 - 11 JahrenMit unserer inneren Vorstellungskraft werden wi
 r zu Tieren, Pflanzen, Fabelwesen und vielem mehr. Auf spannende und lustig
 e Weise entdecken wir unseren Körper, lernen unsere Gefühle in Bewegung umz
 usetzen und unserer Fantasie im Tanz freien Lauf zu lassen.\nInspiriert von
  Musik und diversen Requisiten entsteht mit den Kindern eine Bewegungseinhe
 it. Diese beinhalten unter anderem:\nfreie und strukturierte Tanzformen\nBe
 wegungsimprovisation und spontaner Bewegungsausdruck\nGruppen-, Kreis- und 
 Schlangentänze\nTanztheater\nRollen- und Bewegungsspiele\nWahrnehmungsübung
 en\n \nErlebnisse und Erfahrungen mit sich selbst und der Gruppe stärken da
 s Selbstvertrauen und lassen die eigene Selbstwirksamkeit erfahren. Die tän
 zerische Begegnung mit anderen ermöglicht das Spüren von Nähe und Distanz u
 nd lässt sensibel werden für einen achtsamen Umgang sowohl mit den eigenen 
 Grenzen als auch mit den Grenzen der anderen. Es geht nicht darum perfekte 
 Schrittfolgen zu lernen, sondern auf spielerische Weise und geleitet von de
 r eigenen Wahrnehmung, die Tänze mitzugestalten.\n \nSOMMERSPECIAL: Diensta
 g 15:30 – 16:30 Uhr im Raum 1\nTermine: 9.7., 16.7., 23.7., 30.7., 6.8., 13
 .8.2019\n \nDrop-In-Classes ohne Anmeldung: 50 Minuten Yoga für dein Kind, 
 wundervoll entspannend und kreativ, eine fantastische Kräftigung der Muskul
 atur sowie viel Stärkung des Selbstbewusstseins stehen hier am Programm. Fü
 r dein Kind im Alter von 4-9 Jahre.\nSonnentor-Bio-Tee wartet vor und nach 
 allen unseren Drop-In-Classes ohne Anmeldung am Empfang auf dich!\nStundenp
 lan: Online hier zu finden! (https://www.freiraum-institut.at/stundenplan/)
 \nÖffnungszeiten (https://www.freiraum-institut.at/oeffnungszeiten/): 20-30
  Minuten vor Beginn einer Drop-In-Class und bis 30 Minuten nach Ende der Dr
 op-In-Class!\nMittagspause im FREIRAUM-Institut: Mo-Fr von 12:00-13:30 Uhr\
 nHäufig gestellte Fragen / FAQ: werden hier beantwortet (https://www.freira
 um-institut.at/fragen-antworten/)\n \nEinzelne Drop-In-Classes gibt's bei u
 ns um € 17,-\nEin ermäßigtes 10er-Päckchen FREIRAUM-Yoga-Münzen \ngibt's un
 ter anderem für Mamas oder Papas in Karenz, Babypause bzw. Mutterschutz um 
 € 145,-\n \n...unsere FREIRAUM-Yoga-Münzen sind zeitlich unlimitiert nutzba
 r, können weitergeschenkt oder weiterverkauft werden, sind übertragbar und 
 können in ALLEN Drop-In-Classes vom FREIRAUM-Institut flexibel genutzt werd
 en:\neine FREIRAUM-Yoga-Münze ermöglicht die Teilnahme an einer beliebigen 
 Drop-In-Class. Siehe Preisgestaltung (https://www.freiraum-institut.at/prei
 sgestaltung/)!\n \nDie Kinder-Yoga-Klassen finden im Raum 1 vom FREIRAUM-In
 stitut, Liechtensteinstr. 10A (Ecke Türkenstraße) statt.\n \n
X-ALT-DESC;FMTTYPE=text/html:<h3>für Kinder von 6 - 11 Jahren</h3><p>Mit unserer inneren Vorstellungskra
 ft werden wir zu Tieren, Pflanzen, Fabelwesen und vielem mehr. Auf spannend
 e und lustige Weise entdecken wir unseren Körper, lernen unsere Gefühle in 
 Bewegung umzusetzen und unserer Fantasie im Tanz freien Lauf zu lassen.</p>
 <p>Inspiriert von Musik und diversen Requisiten entsteht mit den Kindern ei
 ne Bewegungseinheit. Diese beinhalten unter anderem:</p><p>freie und strukt
 urierte Tanzformen</p><p>Bewegungsimprovisation und spontaner Bewegungsausd
 ruck</p><p>Gruppen-, Kreis- und Schlangentänze</p><p>Tanztheater</p><p>Roll
 en- und Bewegungsspiele</p><p>Wahrnehmungsübungen</p><p> </p><p>Erlebnisse 
 und Erfahrungen mit sich selbst und der Gruppe stärken das Selbstvertrauen 
 und lassen die eigene Selbstwirksamkeit erfahren. Die tänzerische Begegnung
  mit anderen ermöglicht das Spüren von Nähe und Distanz und lässt sensibel 
 werden für einen achtsamen Umgang sowohl mit den eigenen Grenzen als auch m
 it den Grenzen der anderen. Es geht nicht darum perfekte Schrittfolgen zu l
 ernen, sondern auf spielerische Weise und geleitet von der eigenen Wahrnehm
 ung, die Tänze mitzugestalten.</p><p> </p><p><strong>SOMMERSPECIAL:</strong
 > Dienstag 15:30 – 16:30 Uhr im Raum 1</p><p><strong>Termine:</strong> 9.7.
 , 16.7., 23.7., 30.7., 6.8., 13.8.2019</p><p> </p><p><b>Drop-In-Classes ohn
 e Anmeldung:</b> 50 Minuten Yoga für dein Kind, wundervoll entspannend und 
 kreativ, eine fantastische Kräftigung der Muskulatur sowie viel Stärkung de
 s Selbstbewusstseins stehen hier am Programm. Für dein Kind im Alter von 4-
 9 Jahre.</p><p><b>Sonnentor</b>-Bio-Tee wartet vor und nach allen unseren D
 rop-In-Classes ohne Anmeldung am Empfang auf dich!</p><p>Stundenplan: <a hr
 ef="https://www.freiraum-institut.at/stundenplan/">Online hier zu finden!</
 a></p><p><a href="https://www.freiraum-institut.at/oeffnungszeiten/">Öffnun
 gszeiten</a>: 20-30 Minuten vor Beginn einer Drop-In-Class und bis 30 Minut
 en nach Ende der Drop-In-Class!</p><p>Mittagspause im FREIRAUM-Institut: Mo
 -Fr von 12:00-13:30 Uhr</p><p>Häufig gestellte Fragen / FAQ: <a href="https
 ://www.freiraum-institut.at/fragen-antworten/">werden hier beantwortet</a><
 /p><p> </p><p><b>Einzelne Drop-In-Classes</b> gibt's bei uns um € 17,-</p><
 p>Ein <b>ermäßigtes 10er-Päckchen FREIRAUM-Yoga-Münzen</b><span class="Appl
 e-converted-space"> </span></p><p>gibt's unter anderem für Mamas oder Papas
  in Karenz, Babypause bzw. Mutterschutz um € 145,-</p><p> </p><p>...unsere 
 FREIRAUM-Yoga-Münzen sind zeitlich unlimitiert nutzbar, können weitergesche
 nkt oder weiterverkauft werden, sind übertragbar und können in ALLEN Drop-I
 n-Classes vom FREIRAUM-Institut flexibel genutzt werden:</p><p>eine FREIRAU
 M-Yoga-Münze ermöglicht die Teilnahme an einer beliebigen Drop-In-Class. <a
  href="https://www.freiraum-institut.at/preisgestaltung/">Siehe Preisgestal
 tung</a>!</p><p> </p><p>Die Kinder-Yoga-Klassen finden im Raum 1 vom FREIRA
 UM-Institut, Liechtensteinstr. 10A (Ecke Türkenstraße) statt.</p><p> </p>
CONTACT:https://www.freiraum-institut.at/stundenplan/fantasievoller-kindertanz
DTSTAMP:20260426T042835
DTSTART:20190709T133000
DTEND:20190709T143000
SEQUENCE:0
TRANSP:OPAQUE
END:VEVENT
END:VCALENDAR