BEGIN:VCALENDAR
VERSION:2.0
PRODID:-//jEvents 2.0 for Joomla//EN
CALSCALE:GREGORIAN
METHOD:PUBLISH
BEGIN:VEVENT
UID:6402865d2515a5a2710ce873a0d3777c
CATEGORIES:18. Bezirk
CREATED:20190705T112212
SUMMARY:Spielgruppe mit Musik für Babys
LOCATION:SPIELRINGEL Mollgasse 11-13
DESCRIPTION:Spielgruppe mit Musik für Babys (6-14 Monate)Es wird dem Alter und der Entw
 icklung der Babys entsprechend, gespielt, gesungen, getanzt und musiziert. 
 Musik fördert die Entwicklung von Babys: Sie ist gut für die Bewegungskoord
 ination, die Sprachentwicklung, den Gleichgewichtssinn und die Bindung zur 
 Bezugsperson. Das beste daran ist, dass es einfach Freude macht!\nStart:\n 
 26.8.2019 mit Susanne\nKurstag:\n Montag 14:00-15:30\nTermine:\n26.8., 2.9.
 , 9.9., 23.9., 30.9.\nKosten:\n€ 90,- (5 Wochen-Kurs)\nInfo &amp; Anmeldung
 :\noffice@spielringel.at (mailto:kontakt@schwangerschaft-elternschaft.at)\n
X-ALT-DESC;FMTTYPE=text/html:<header><h2 class="element-header ">Spielgruppe mit Musik für Babys (6-14 M
 onate)</h2><p>Es wird dem Alter und der Entwicklung der Babys entsprechend,
  gespielt, gesungen, getanzt und musiziert. Musik fördert die Entwicklung v
 on Babys: Sie ist gut für die Bewegungskoordination, die Sprachentwicklung,
  den Gleichgewichtssinn und die Bindung zur Bezugsperson. Das beste daran i
 st, dass es einfach Freude macht!</p></header><p><span class="text-primary"
 >Start:</span><br /> 26.8.2019 mit Susanne</p><p><span class="text-primary"
 >Kurstag</span>:<br /> Montag 14:00-15:30</p><p><span class="text-primary">
 Termine:</span></p><p>26.8., 2.9., 9.9., 23.9., 30.9.</p><p><span class="te
 xt-primary">Kosten:</span></p><p>€ 90,- (5 Wochen-Kurs)</p><p><span class="
 text-primary">Info &amp; Anmeldung:</span><br /><a href="mailto:kontakt@sch
 wangerschaft-elternschaft.at">office@spielringel.at</a></p>
CONTACT:http://schwangerschaft-elternschaft.at/angebote/spiel-spass-musik/spielgruppe-mit-musik-fuer-babys/ (http://schwangerschaft-elternschaft.at/angebote/spiel-spass-musik/spielgruppe-mit-musik-fuer-babys/)
X-EXTRAINFO:[preis='9000'][anmeldung='true']
DTSTAMP:20260425T185418
DTSTART:20190923T120000
DTEND:20190923T133000
SEQUENCE:0
TRANSP:OPAQUE
END:VEVENT
END:VCALENDAR