BEGIN:VCALENDAR
VERSION:2.0
PRODID:-//jEvents 2.0 for Joomla//EN
CALSCALE:GREGORIAN
METHOD:PUBLISH
BEGIN:VEVENT
UID:1cbbcb0fc9f4672f3e0e34c480271768
CATEGORIES:18. Bezirk
CREATED:20190705T112429
SUMMARY: Spielgruppe mit Musik für Kleinkinder 
LOCATION:SPIELRINGEL Mollgasse11-13
DESCRIPTION:Spielgruppe mit Musik für Kleinkinder (12- 24 Monate)Gemeinsam werden wir s
 ingen, musizieren und tanzen. Der Gruppenraum wird zum Erlebnis- und Bewegu
 ngsraum. In gemütlicher, kindgerechter Umgebung können neue Bekanntschaften
  geschlossen werden.\nJede Stunde regen neue Spielimpulse zum Mitmachen an 
 und geben Anreiz zur leichten Umsetzung zu Hause.\nDein Kind hat die Möglic
 hkeit sich frei in einer Gruppe Gleichaltriger zu bewegen und dich trotzdem
  immer als sicheren Hafen zur Einkehr bei sich zu haben.\nStart:\n 26.8..20
 19 mit Susanne\nKurstag:\n Montag 16:00-17:30\nTermine:\n26.8., 2.9., 9.9.,
  23.9., 30.9.\nKosten:\n€ 90,- (5 Wochen-Kurs)\nInfo &amp; Anmeldung:\noffi
 ce@spielringel.at (mailto:kontakt@schwangerschaft-elternschaft.at)\n
X-ALT-DESC;FMTTYPE=text/html:<div id="c235" class="frame frame-default frame-type-text frame-background-
 none frame-no-backgroundimage frame-space-before-none frame-space-after-non
 e"><div class="frame-container"><div class="frame-inner"><header><h2 class=
 "element-header ">Spielgruppe mit Musik für Kleinkinder (12- 24 Monate)</h2
 ></header><p>Gemeinsam werden wir singen, musizieren und tanzen. Der Gruppe
 nraum wird zum Erlebnis- und Bewegungsraum. In gemütlicher, kindgerechter U
 mgebung können neue Bekanntschaften geschlossen werden.</p><p>Jede Stunde r
 egen neue Spielimpulse zum Mitmachen an und geben Anreiz zur leichten Umset
 zung zu Hause.</p><p>Dein Kind hat die Möglichkeit sich frei in einer Grupp
 e Gleichaltriger zu bewegen und dich trotzdem immer als sicheren Hafen zur 
 Einkehr bei sich zu haben.</p><p><span class="text-primary">Start:</span><b
 r /> 26.8..2019 mit Susanne</p><p><span class="text-primary">Kurstag</span>
 :<br /> Montag 16:00-17:30</p><p><span class="text-primary">Termine:</span>
 </p><p>26.8., 2.9., 9.9., 23.9., 30.9.</p><p><span class="text-primary">Kos
 ten:</span></p><p>€ 90,- (5 Wochen-Kurs)</p><p><span class="text-primary">I
 nfo &amp; Anmeldung:</span><br /><a href="mailto:kontakt@schwangerschaft-el
 ternschaft.at">office@spielringel.at</a></p></div></div></div>
CONTACT:http://schwangerschaft-elternschaft.at/angebote/spiel-spass-musik/spielgruppe-mit-musik-fuer-kleinkinder/ (http://schwangerschaft-elternschaft.at/angebote/spiel-spass-musik/spielgruppe-mit-musik-fuer-kleinkinder/)
X-EXTRAINFO:[preis='9000'][anmeldung='true']
DTSTAMP:20260425T184126
DTSTART:20190902T140000
DTEND:20190902T153000
SEQUENCE:0
TRANSP:OPAQUE
END:VEVENT
END:VCALENDAR