BEGIN:VCALENDAR
VERSION:2.0
PRODID:-//jEvents 2.0 for Joomla//EN
CALSCALE:GREGORIAN
METHOD:PUBLISH
BEGIN:VEVENT
UID:74bc81afb03a5cde871142e587f96b11
CATEGORIES:18. Bezirk
CREATED:20190705T113506
SUMMARY:Sinnesspielgruppe für Kleinstkinder 
LOCATION:SPIELRINGEL Mollgasse 11-13
DESCRIPTION:In unserer Sinnesspielgruppe entdecken die Kinder spielend viel Neues und l
 ernen dabei auch noch neue Freunde kennen. Die Sinne der Kinder werden mit 
 Hilfe verschiedener Materialien spielerisch angeregt, es wird experimentier
 t und auch gebastelt - dabei sollen sie möglichst viel selbst ausprobieren.
  Achtsamkeit, Wahrnehmungsförderung und Sinnesschulung stehen im Vordergrun
 d! Kreisspiele, Kniereiter und Fingerreime gehören genauso dazu, wie der Au
 stausch mit anderen Eltern.\nGenießt die Zeit beim gemeinsamen Spielen und 
 Entdecken mit euren Kindern!\nBitte Kleidung anziehen, die auch schmutzig w
 erden darf!\nKurs 2: Donnerstag 11:00-12:00\nTermine: 12.9., 19.9., 26.9., 
 3.10., 10.10.\n€ 75 (5 Wochen-Kurs)\nInfo &amp; Anmeldung:\noffice@spielrin
 gel.at (mailto:kontakt@schwangerschaft-elternschaft.at)\n \n
X-ALT-DESC;FMTTYPE=text/html:<p>In unserer Sinnesspielgruppe entdecken die Kinder spielend viel Neues un
 d lernen dabei auch noch neue Freunde kennen. Die Sinne der Kinder werden m
 it Hilfe verschiedener Materialien spielerisch angeregt, es wird experiment
 iert und auch gebastelt - dabei sollen sie möglichst viel selbst ausprobier
 en. Achtsamkeit, Wahrnehmungsförderung und Sinnesschulung stehen im Vorderg
 rund! Kreisspiele, Kniereiter und Fingerreime gehören genauso dazu, wie der
  Austausch mit anderen Eltern.</p><p>Genießt die Zeit beim gemeinsamen Spie
 len und Entdecken mit euren Kindern!</p><p>Bitte Kleidung anziehen, die auc
 h schmutzig werden darf!</p><p>Kurs 2: Donnerstag 11:00-12:00</p><p>Termine
 : 12.9., 19.9., 26.9., 3.10., 10.10.</p><p>€ 75 (5 Wochen-Kurs)</p><p><span
  class="text-primary">Info &amp; Anmeldung:</span><br /><a href="mailto:kon
 takt@schwangerschaft-elternschaft.at">office@spielringel.at</a></p><p> </p>
CONTACT:http://schwangerschaft-elternschaft.at/angebote/spiel-spass-musik/sinnesspielgruppe-fuer-kleinstkinder/ (http://schwangerschaft-elternschaft.at/angebote/spiel-spass-musik/sinnesspielgruppe-fuer-kleinstkinder/)
X-EXTRAINFO:[preis='7500'][anmeldung='true']
DTSTAMP:20260425T153443
DTSTART:20191010T090000
DTEND:20191010T100000
SEQUENCE:0
TRANSP:OPAQUE
END:VEVENT
END:VCALENDAR