BEGIN:VCALENDAR
VERSION:2.0
PRODID:-//jEvents 2.0 for Joomla//EN
CALSCALE:GREGORIAN
METHOD:PUBLISH
BEGIN:VEVENT
UID:c3aff3d900b128fc3a55e2a1a92348ce
CATEGORIES:13. Bezirk
CREATED:20190705T231220
SUMMARY:mamaFIT mit Natascha - Schönbrunn
LOCATION:Hietzinger Tor\, 1130 Wien
DESCRIPTION:Bei mamaFIT mit Natascha erwartet dich ein rückbildungsorientiertes Ganzkör
 per-Kraft-Workout, dass ganzjährig Ourdoor stattfindet. Kinder können entwe
 der im Kinderwagen, in der Trage, noch im Bauch oder auch zu Fuß/am Roller/
 Rad/etc dabei sein. \nTreffpunkt auf der Liegewiese ca 150m nach dem Hietzi
 nger Tor auf der linken Seite.\nBitte bringe eine Trinkflasche und dem Wett
 er entsprechende Kleidung mit. \nKurzfristige Änderungen werden per WhatsAp
 p und Instagram (mamafit_mit_natascha (https://www.instagram.com/mamafit_mi
 t_natascha/)) kommuniziert.\n \nKosten:\n10er Block - 110€\n5er Block - 60€
 \nEinzelstunde - 14€\n-&gt; Kurskarten sind 1 Jahr gültig und übertragbar!\
 n
X-ALT-DESC;FMTTYPE=text/html:<p>Bei <strong>mamaFIT mit Natascha</strong> erwartet dich ein rückbildungs
 orientiertes Ganzkörper-Kraft-Workout, dass ganzjährig Ourdoor stattfindet.
  Kinder können entweder im Kinderwagen, in der Trage, noch im Bauch oder au
 ch zu Fuß/am Roller/Rad/etc dabei sein. </p><p>Treffpunkt auf der Liegewies
 e ca 150m nach dem Hietzinger Tor auf der linken Seite.</p><p>Bitte bringe 
 eine Trinkflasche und dem Wetter entsprechende Kleidung mit. </p><p>Kurzfri
 stige Änderungen werden per WhatsApp und Instagram (<a href="https://www.in
 stagram.com/mamafit_mit_natascha/">mamafit_mit_natascha</a>) kommuniziert.<
 /p><p> </p><p><strong>Kosten</strong>:</p><p>10er Block - 110€</p><p>5er Bl
 ock - 60€</p><p>Einzelstunde - 14€</p><p>-&gt; Kurskarten sind 1 Jahr gülti
 g und übertragbar!</p>
CONTACT:https://mamafit.at/trainer/natascha-wondrusch/
X-EXTRAINFO:[preis='1400'][anmeldung='false']
DTSTAMP:20260423T194739
DTSTART:20190722T080000
DTEND:20190722T090000
SEQUENCE:0
TRANSP:OPAQUE
END:VEVENT
END:VCALENDAR