BEGIN:VCALENDAR
VERSION:2.0
PRODID:-//jEvents 2.0 for Joomla//EN
CALSCALE:GREGORIAN
METHOD:PUBLISH
BEGIN:VEVENT
UID:49bef06fc273b41b77e216525bcf7670
CATEGORIES:14. Bezirk
CREATED:20190705T232019
SUMMARY:mamaFIT mit Natascha - BOOTCAMP
LOCATION:Hofjägerstraße 6\, 1140 Wien
DESCRIPTION:Beim mamaFIT mit Natascha BOOTCAMP erwartet dich ein Ganzkörper-Kraft-Worko
 ut, dass ganzjährig Ourdoor stattfindet. Dieser Kurs ist für fitte Schwange
 re sowie Mamas frühestens 6-9 Monate nach Geburt (Partner, Männer, Freunde,
  Verwandte sind willkommen, aber in diesem Kurs keine Kinder!)\nTreffpunkt 
 vor dem Spielplatz neben der Stadt des Kindes. \nBitte bringe eine Trinkfla
 sche, eine kleine (Sitz)Unterlage und dem Wetter entsprechende Kleidung mit
 . \nKurzfristige Änderungen werden per WhatsApp und Instagram (mamafit_mit_
 natascha (https://www.instagram.com/mamafit_mit_natascha/)) kommuniziert.\n
  \nKosten:\n10er Block - 110€\n5er Block - 60€\nEinzelstunde - 14€\n-&gt; K
 urskarten sind 1 Jahr gültig und übertragbar!\n
X-ALT-DESC;FMTTYPE=text/html:<p>Beim <strong>mamaFIT mit Natascha BOOTCAMP</strong> erwartet dich ein Ga
 nzkörper-Kraft-Workout, dass ganzjährig Ourdoor stattfindet. Dieser Kurs is
 t für <span style="text-decoration: underline;">fitte Schwangere </span>sow
 ie <span style="text-decoration: underline;">Mamas frühestens 6-9 Monate na
 ch Geburt</span> (Partner, Männer, Freunde, Verwandte sind willkommen, aber
  in diesem Kurs keine Kinder!)</p><p>Treffpunkt vor dem Spielplatz neben de
 r Stadt des Kindes. </p><p>Bitte bringe eine Trinkflasche, eine kleine (Sit
 z)Unterlage und dem Wetter entsprechende Kleidung mit. </p><p>Kurzfristige 
 Änderungen werden per WhatsApp und Instagram (<a href="https://www.instagra
 m.com/mamafit_mit_natascha/">mamafit_mit_natascha</a>) kommuniziert.</p><p>
  </p><p><strong>Kosten</strong>:</p><p>10er Block - 110€</p><p>5er Block - 
 60€</p><p>Einzelstunde - 14€</p><p>-&gt; Kurskarten sind 1 Jahr gültig und 
 übertragbar!</p>
CONTACT:https://mamafit.at/trainer/natascha-wondrusch/
X-EXTRAINFO:[preis='1400'][anmeldung='false']
DTSTAMP:20260423T194625
DTSTART:20190717T173000
DTEND:20190717T183000
SEQUENCE:0
TRANSP:OPAQUE
END:VEVENT
END:VCALENDAR