BEGIN:VCALENDAR
VERSION:2.0
PRODID:-//jEvents 2.0 for Joomla//EN
CALSCALE:GREGORIAN
METHOD:PUBLISH
BEGIN:VEVENT
UID:224668724de43204930b4f0b89a4d004
CATEGORIES:14. Bezirk
CREATED:20190716T132341
SUMMARY:Yogalates mit dem Baby (12x)
LOCATION:VHS Penzing\, Hütteldorfer Straße 112\, 1140 Wien
DESCRIPTION:<p>Yogalates vereint Prinzipien aus dem fernöstlichen Yoga und dem europäis
 chen Pilates, Übungen aus beiden Konzepten werden zu einem wirkungsvollen T
 raining verbunden. Mit Yoga arbeiten wir an der Atmung und Geschmeidigkeit,
  Pilates gibt Kraft und strafft den Körper. Ziel sind ein kraftvoller und b
 eweglicher Körper, eine gute Haltung, Balance und Gelassenheit. <strong>12 
 Termine zu insgesamt 78,- Euro.</strong></p>
CONTACT:penzing@vhs.at, 01 89 174 114 000
X-EXTRAINFO:[preis='7800'][anmeldung='true']
DTSTAMP:20260423T182520
DTSTART:20191121T100000
DTEND:20191121T110000
SEQUENCE:0
TRANSP:OPAQUE
END:VEVENT
END:VCALENDAR