BEGIN:VCALENDAR
VERSION:2.0
PRODID:-//jEvents 2.0 for Joomla//EN
CALSCALE:GREGORIAN
METHOD:PUBLISH
BEGIN:VEVENT
UID:0eb14b57e129da1ae3237915fc1ff9b1
CATEGORIES:14. Bezirk
CREATED:20190716T135120
SUMMARY:Aquafitness für Schwangere (7x)
LOCATION:Holmes Place\, Hütteldorfer Straße 130a\, 1140 Wien
DESCRIPTION:<p>Diese besonders schonende Bewegungsform für Schwangere wird im brusthohe
 n Wasser ausgeführt und hält Beweglichkeit sowie Leistungsfähigkeit aufrech
 t. Der hydrostatische Druck des Wassers verstärkt den positiven Trainingsef
 fekt und wirkt sich günstig auf die Blutgefäße aus. Die Massagewirkung regt
  die Durchblutung von Muskeln, Haut und Bindegewebe an und strafft das Gewe
 be. Der Eintritt ins Bad ist im Kurspreis inkludiert. Wassertemperatur: 28 
 Grad. <strong>7 Termine für insgesamt 50,50 Euro.</strong></p>
CONTACT:penzing@vhs.at, 01 89 174 114 000
X-EXTRAINFO:[preis='5050'][anmeldung='true']
DTSTAMP:20260423T211557
DTSTART:20191022T120000
DTEND:20191022T130000
SEQUENCE:0
TRANSP:OPAQUE
END:VEVENT
END:VCALENDAR