BEGIN:VCALENDAR
VERSION:2.0
PRODID:-//jEvents 2.0 for Joomla//EN
CALSCALE:GREGORIAN
METHOD:PUBLISH
BEGIN:VEVENT
UID:f964ace1b4387faded97daa4f0cbc020
CATEGORIES:14. Bezirk
CREATED:20190716T151319
SUMMARY:Eltern-Kind-Turnen (3-5J.) (12x)
LOCATION:VHS Penzing\, Hütteldorfer Straße 112\, 1140 Wien
DESCRIPTION:Dieses abwechslungsreiche Spiel- und Bewegungsprogramm bietet Kindern die M
 öglichkeit, gemeinsam mit ihren Eltern neue Bewegungserfahrungen zu machen.
  Sie lernen so mehr Sicherheit und Vertrauen in die eigenen Fähigkeiten. Of
 t findet in diesem Rahmen der erste, behutsam begleitete Kontakt mit andere
 n Kindern statt. Altersgerechte Spiele, Tänze und jede Menge Gelegenheit zu
 m Turnen und Toben fördern Beweglichkeit, Geschicklichkeit und Rhythmusgefü
 hl. Ziel: Die Kinder verfügen über mehr Bewegungssicherheit und -freiheit i
 m Alltag. 12 Termine zu insgesamt 69,60 Euro.\n
X-ALT-DESC;FMTTYPE=text/html:<p>Dieses abwechslungsreiche Spiel- und Bewegungsprogramm bietet Kindern di
 e Möglichkeit, gemeinsam mit ihren Eltern neue Bewegungserfahrungen zu mach
 en. Sie lernen so mehr Sicherheit und Vertrauen in die eigenen Fähigkeiten.
  Oft findet in diesem Rahmen der erste, behutsam begleitete Kontakt mit and
 eren Kindern statt. Altersgerechte Spiele, Tänze und jede Menge Gelegenheit
  zum Turnen und Toben fördern Beweglichkeit, Geschicklichkeit und Rhythmusg
 efühl. Ziel: Die Kinder verfügen über mehr Bewegungssicherheit und -freihei
 t im Alltag. <strong>12 Termine zu insgesamt 69,60 Euro.</strong></p>
CONTACT:penzing@vhs.at, 01 89 174 114 000
X-EXTRAINFO:[preis='6960'][anmeldung='true']
DTSTAMP:20260423T194700
DTSTART:20191105T150000
DTEND:20191105T160000
SEQUENCE:0
TRANSP:OPAQUE
END:VEVENT
END:VCALENDAR