BEGIN:VCALENDAR
VERSION:2.0
PRODID:-//jEvents 2.0 for Joomla//EN
CALSCALE:GREGORIAN
METHOD:PUBLISH
BEGIN:VEVENT
UID:c3f4cff6cd9121288c32be5a05cdfe02
CATEGORIES:14. Bezirk
CREATED:20190720T215915
SUMMARY:DERKREATIVRAUM14- Musikgarten für KInder ab 3 Jahren mit Begleitperson
LOCATION:derkreativraum14
DESCRIPTION:"Musikgarten -Gemeinsam musizieren" ist ein musikpädagisches Konzept, das K
 ind ab dem Säuglingsalter und deren Eltern zum gemeinsamen Musizieren anreg
 t. Durch musikalische Kinderspiele, Tänze und das gemeinsame Singen erfahre
 n die Kinder eine frühe musikalische Förderung. Einfache Instrumente wie Kl
 anghölzer, Glöckchen, Rasseln oder Trommeln lassen sie selbst aktiv werden.
 \n
X-ALT-DESC;FMTTYPE=text/html:<p>"Musikgarten -Gemeinsam musizieren" ist ein musikpädagisches Konzept, da
 s Kind ab dem Säuglingsalter und deren Eltern zum gemeinsamen Musizieren an
 regt. Durch musikalische Kinderspiele, Tänze und das gemeinsame Singen erfa
 hren die Kinder eine frühe musikalische Förderung. Einfache Instrumente wie
  Klanghölzer, Glöckchen, Rasseln oder Trommeln lassen sie selbst aktiv werd
 en.</p>
CONTACT:www.derkreativraum.at
X-EXTRAINFO:[preis='17600'][anmeldung='true']
DTSTAMP:20260423T182242
DTSTART:20190912T151000
DTEND:20190912T160000
SEQUENCE:0
TRANSP:OPAQUE
END:VEVENT
END:VCALENDAR