BEGIN:VCALENDAR
VERSION:2.0
PRODID:-//jEvents 2.0 for Joomla//EN
CALSCALE:GREGORIAN
METHOD:PUBLISH
BEGIN:VEVENT
UID:7b23541839474b744dd9c22dbb3a3592
CATEGORIES:5. Bezirk
CREATED:20190721T102200
SUMMARY:Montessori Sommerspielgruppe
LOCATION:ILSA - Das Erste Wiener Montessori Eltern-Kind-Haus
DESCRIPTION:<p><strong>Montessori Spielgruppe 2-36 Monate</strong></p><p style="text-al
 ign: justify;">Die Kinder in den Montessori-Spielgruppen sind eingeladen di
 e Montessori-Materialien in der sorgfältig und liebevoll Vorbereiteten Umge
 bung für sich zu entdecken und reichlich damit zu experimentieren. Eine Mon
 tessori-Pädagogin mit international anerkannter Ausbildung begleitet die Sp
 ielgruppen. Sie werden durch gezieltes Beobachten in der Vorbereiteten Umge
 bung ganz neue Facetten an Ihrem Kind entdecken. Das gemeinsame Essen wird 
 bei uns jedes Mal gefeiert. Eine gesunde Jause in friedlicher Atmosphäre is
 t für die Kinder ein soziales Erlebnis. Zum Abschluss gibt es noch einen ge
 meinsamen Kreis, in dem gesungen und getanzt wird, sowie Fingerspiele und K
 niereiter eingebracht werden, welche große Freude bereiten und auch die Spr
 achentwicklung ihres Kindes positiv unterstützen.</p><p style="text-align: 
 justify;"></p><p style="text-align: justify;"><strong>Einstieg jederzeit mö
 glich!</strong></p><p style="text-align: justify;"> </p><p style="text-alig
 n: justify;"><strong>Anmeldung erforderlich</strong> unter: <a href="mailto
 :info@ilsa.at">info@ilsa.at</a> oder +43 660 913 53 74</p><p style="text-al
 ign: justify;"> </p><p style="text-align: justify;"><strong>Buchungsmöglich
 keiten</strong></p><p style="text-align: justify;">10er Block inkl. eine Ei
 nheit individuelles Familiengespräch</p><p style="text-align: justify;">5er
  Block inkl. eine Einheit individuelles Familiengespräch</p><p style="text-
 align: justify;">Einzeleinheiten</p><p style="text-align: justify;"> </p><p
  style="text-align: justify;"><strong>Ort:</strong></p><p style="text-align
 : justify;">ILSA - Das Erste Wiener Montessori Eltern-Kind-Haus</p><p style
 ="text-align: justify;">Straußengasse 15</p><p style="text-align: justify;"
 >1050 Wien</p><p style="text-align: justify;"><a href="http://www.ilsa.at">
 www.ilsa.at</a></p><p style="text-align: justify;"> </p>
CONTACT:info@ilsa.at
DTSTAMP:20260425T154036
DTSTART:20190723T080000
DTEND:20190723T093000
SEQUENCE:0
TRANSP:OPAQUE
END:VEVENT
END:VCALENDAR