BEGIN:VCALENDAR
VERSION:2.0
PRODID:-//jEvents 2.0 for Joomla//EN
CALSCALE:GREGORIAN
METHOD:PUBLISH
BEGIN:VEVENT
UID:1ea339022e1b3775c40b91b9892dcec7
CATEGORIES:5. Bezirk
CREATED:20190721T122302
SUMMARY:Montessori Sommerspielgruppe 2-36 Monate
LOCATION:ILSA - Das Erste Wiener Eltern Kind Haus
DESCRIPTION:Montessori Sommerspielgruppe 2-36 Monate\nDie Kinder in den Montessori-Spie
 lgruppen sind eingeladen die Montessori-Materialien in der sorgfältig und l
 iebevoll Vorbereiteten Umgebung für sich zu entdecken und reichlich damit z
 u experimentieren. Eine Montessori-Pädagogin mit international anerkannter 
 Ausbildung begleitet die Spielgruppen. Sie werden durch gezieltes Beobachte
 n in der Vorbereiteten Umgebung ganz neue Facetten an Ihrem Kind entdecken.
  Das gemeinsame Essen wird bei uns jedes Mal gefeiert. Eine gesunde Jause i
 n friedlicher Atmosphäre ist für die Kinder ein soziales Erlebnis. Zum Absc
 hluss gibt es noch einen gemeinsamen Kreis, in dem gesungen und getanzt wir
 d, sowie Fingerspiele und Kniereiter eingebracht werden, welche große Freud
 e bereiten und auch die Sprachentwicklung ihres Kindes positiv unterstützen
 .\n\nEinstieg jederzeit möglich!\n \nAnmeldung erforderlich unter: info@ils
 a.at (mailto:info@ilsa.at) oder +43 660 913 53 74\n \nBuchungsmöglichkeiten
 \n10er Block inkl. eine Einheit individuelles Familiengespräch\n5er Block i
 nkl. eine Einheit individuelles Familiengespräch\nEinzeleinheiten\n \nOrt:\
 nILSA - Das Erste Wiener Montessori Eltern-Kind-Haus\nStraußengasse 14\n105
 0 Wien\nwww.ilsa.at (http://www.ilsa.at)\n\n
X-ALT-DESC;FMTTYPE=text/html:<p style="text-align: justify;"><strong>Montessori Sommerspielgruppe 2-36 M
 onate</strong></p><p style="text-align: justify;">Die Kinder in den Montess
 ori-Spielgruppen sind eingeladen die Montessori-Materialien in der sorgfält
 ig und liebevoll Vorbereiteten Umgebung für sich zu entdecken und reichlich
  damit zu experimentieren. Eine Montessori-Pädagogin mit international aner
 kannter Ausbildung begleitet die Spielgruppen. Sie werden durch gezieltes B
 eobachten in der Vorbereiteten Umgebung ganz neue Facetten an Ihrem Kind en
 tdecken. Das gemeinsame Essen wird bei uns jedes Mal gefeiert. Eine gesunde
  Jause in friedlicher Atmosphäre ist für die Kinder ein soziales Erlebnis. 
 Zum Abschluss gibt es noch einen gemeinsamen Kreis, in dem gesungen und get
 anzt wird, sowie Fingerspiele und Kniereiter eingebracht werden, welche gro
 ße Freude bereiten und auch die Sprachentwicklung ihres Kindes positiv unte
 rstützen.</p><p style="text-align: justify;"></p><p><strong>Einstieg jederz
 eit möglich!</strong></p><p> </p><p><strong>Anmeldung erforderlich</strong>
  unter: <a href="mailto:info@ilsa.at">info@ilsa.at</a> oder +43 660 913 53 
 74</p><p> </p><p><strong>Buchungsmöglichkeiten</strong></p><p>10er Block in
 kl. eine Einheit individuelles Familiengespräch</p><p>5er Block inkl. eine 
 Einheit individuelles Familiengespräch</p><p>Einzeleinheiten</p><p> </p><p>
 <strong>Ort:</strong></p><p>ILSA - Das Erste Wiener Montessori Eltern-Kind-
 Haus</p><p>Straußengasse 14</p><p>1050 Wien</p><p><a href="http://www.ilsa.
 at">www.ilsa.at</a></p><p></p>
CONTACT:info@ilsa.at
DTSTAMP:20260425T153557
DTSTART:20190813T080000
DTEND:20190813T093000
SEQUENCE:0
TRANSP:OPAQUE
END:VEVENT
END:VCALENDAR