BEGIN:VCALENDAR
VERSION:2.0
PRODID:-//jEvents 2.0 for Joomla//EN
CALSCALE:GREGORIAN
METHOD:PUBLISH
BEGIN:VEVENT
UID:499366ee2efe3cfd16db813d32e1352d
CATEGORIES:3. Bezirk
CREATED:20190802T090543
SUMMARY:MAMA BABY YOGA Schnuppertage
LOCATION:Kreativraum 1030 Wien
DESCRIPTION:SCHNUPPERTAGE 6. u.13.9.2019\nGenieße die Auszeit mit dir und deinem Baby. 
 Wir machen einen Mix aus sanften Yoga- und Rückbildungsübungen. Nach der Ge
 burt sind Rückbildungsübungen für deinen Beckenboden besonders wichtig.So m
 achst du deinen Körper nach der Schwangerschaft wieder fit. Schöpfe neue En
 ergie. Du kannst vom Alltag abschalten und dich mit anderen Mamis austausch
 en. Dein Baby kann sich während einer Babymassage entspannen.\n:-) Omas ode
 r Papas ebenfalls willkommen :-)\nSchnupperstunde 5,- einmalig, Einzelstund
 e 14,-\nfortlaufender Kurs, Einstieg jederzeit möglich\n \nMitzubringen: be
 queme Kleidung, kleines Handtuch, Sportmatten sind im Raum verfügbar\nOrt: 
 Kreativraum 1030 Wien, Hörnesgasse 18/Eingang Ecke Kübeckgasse, erreichbar 
 mit U3 Rochusgasse, Ausgang Hainburger Straße und danach 5 Gehminuten\n
X-ALT-DESC;FMTTYPE=text/html:<p><strong>SCHNUPPERTAGE 6. u.13.9.2019</strong></p><p>Genieße die <strong>
 Auszeit</strong> mit dir und deinem <strong>Baby</strong>. Wir machen einen
  Mix aus sanften <strong>Yoga- und Rückbildungsübungen</strong>. Nach der G
 eburt sind Rückbildungsübungen für deinen <strong>Beckenboden</strong> beso
 nders wichtig.So machst du deinen Körper nach der Schwangerschaft wieder fi
 t. <strong>Schöpfe neue Energie. </strong>Du kannst vom <strong>Alltag absc
 halten</strong> und dich mit anderen Mamis austauschen. Dein Baby kann sich
  während einer <strong>Babymassage</strong> entspannen.</p><p>:-) Omas oder
  Papas ebenfalls willkommen :-)</p><p>Schnupperstunde 5,- einmalig, Einzels
 tunde 14,-</p><p>fortlaufender Kurs, Einstieg jederzeit möglich</p><p> </p>
 <p><strong>Mitzubringen<span style="text-decoration: underline;">:</span></
 strong> bequeme Kleidung, kleines Handtuch, Sportmatten sind im Raum verfüg
 bar</p><p>Ort: <strong>Kreativraum 1030 Wien, Hörnesgasse 18/Eingang Ecke K
 übeckgasse, </strong>erreichbar mit U3 Rochusgasse, Ausgang Hainburger Stra
 ße und danach 5 Gehminuten</p>
CONTACT:julia_yoga@posteo.at
X-EXTRAINFO:[preis='500'][anmeldung='true']
DTSTAMP:20260424T150338
DTSTART:20190906T094500
DTEND:20190906T110000
SEQUENCE:0
TRANSP:OPAQUE
END:VEVENT
END:VCALENDAR