BEGIN:VCALENDAR
VERSION:2.0
PRODID:-//jEvents 2.0 for Joomla//EN
CALSCALE:GREGORIAN
METHOD:PUBLISH
BEGIN:VEVENT
UID:6d677d2c0e2794faa4d0f46d48ea4b08
CATEGORIES:19. Bezirk
CREATED:20190812T125007
SUMMARY:Babyzeichensprache
LOCATION:Lollipop des Q19\, Heiligenstadt
DESCRIPTION:In diesem Kurs kannst Du lernen Dein Baby durch Handzeichen, die so kinderl
 eicht sind wie winken oder klatschen, viel besser zu verstehen. Bestimmt ke
 nnst Du ihm jetzt schon an, ob es müde oder hungrig ist oder andere Gründbe
 dürfnisse hat. \nAber erkennst Du auch den Zeitpunkt, wenn es sich wünscht,
  dass Du ihm etwas vorsingst? Oder dass es das Grillenzirpen im Urlaub für 
 das Geräusch eines Zuges hält? Oder wenn es gerne hätte, dass das Fenster g
 eschlossen wird, weil der Lärm der Straße es beim Schlafen stört. \nViele S
 ituationen im Alltag mit einem Baby sind nicht leicht zu meistern, da es no
 ch nicht selbst sprechen kann, obwohl es fast alles versteht. Mit Gebärden 
 kann Dein Baby ausdrücken, was in ihm vorgeht noch lange bevor es das mit W
 orten schafft. Außerdem macht es viel Spaß und stärkt Eure Bindung zu einan
 der!\nNeugierig geworden? \nDu kannst Dir für die erste Stunde einen Schnup
 perplatz reservieren. Der ist kostenlos und unverbindlich und Du entscheide
 st danach, ob Du den Kurs machen möchtest. Anmeldung zum Schnuppern (oder n
 atürlich auch gleich für den ganzen Kurs) unter mama@mamalogin.at \n
X-ALT-DESC;FMTTYPE=text/html:<p>In diesem Kurs kannst Du lernen Dein Baby durch Handzeichen, die so kind
 erleicht sind wie winken oder klatschen, viel besser zu verstehen. Bestimmt
  kennst Du ihm jetzt schon an, ob es müde oder hungrig ist oder andere Grün
 dbedürfnisse hat. <br />Aber erkennst Du auch den Zeitpunkt, wenn es sich w
 ünscht, dass Du ihm etwas vorsingst? Oder dass es das Grillenzirpen im Urla
 ub für das Geräusch eines Zuges hält? Oder wenn es gerne hätte, dass das Fe
 nster geschlossen wird, weil der Lärm der Straße es beim Schlafen stört. <b
 r />Viele Situationen im Alltag mit einem Baby sind nicht leicht zu meister
 n, da es noch nicht selbst sprechen kann, obwohl es fast alles versteht. Mi
 t Gebärden kann Dein Baby ausdrücken, was in ihm vorgeht noch lange bevor e
 s das mit Worten schafft. Außerdem macht es viel Spaß und stärkt Eure Bindu
 ng zu einander!</p><p>Neugierig geworden? <br />Du kannst Dir für die erste
  Stunde einen Schnupperplatz reservieren. Der ist kostenlos und unverbindli
 ch und Du entscheidest danach, ob Du den Kurs machen möchtest. Anmeldung zu
 m Schnuppern (oder natürlich auch gleich für den ganzen Kurs) unter mama@ma
 malogin.at </p>
CONTACT:Simone | mama@mamalogin.at | +43 664 7510 37 63 
X-EXTRAINFO:[preis='15000'][anmeldung='true']
DTSTAMP:20260423T185843
DTSTART:20191128T083000
DTEND:20191128T093000
SEQUENCE:0
TRANSP:OPAQUE
END:VEVENT
END:VCALENDAR