BEGIN:VCALENDAR
VERSION:2.0
PRODID:-//jEvents 2.0 for Joomla//EN
CALSCALE:GREGORIAN
METHOD:PUBLISH
BEGIN:VEVENT
UID:e27a1b7285e03dbd4c17697ce68e6700
CATEGORIES:6. Bezirk
CREATED:20190821T095708
SUMMARY:Babytreff mit Pikler Elementen
LOCATION:LYMA - Loquaiplatz 12/1\, 1060 Wien
DESCRIPTION:Spielgruppe nach Emmi Pikler für BabysEntdecke gemeinsam mit deinem Baby un
 seren Spielraum! Im Babytreff nach Pikler hat dein Kind die Möglichkeit sel
 bständig unterschiedliche Spiellandschaften zu entdecken und erste Freundsc
 haften zu knüpfen. Die Eltern können sich währenddessen austauschen und ers
 te Entwicklungsschritte ihrer Kinder beobachten.\nKursinhalt &amp; ZieleGem
 einsames Spielen ist für die Entwicklung von Babys und Kleinkindern besonde
 rs wichtig. Auf diese Weise können sie sich ausprobieren und ihre Entwicklu
 ngsschritte in den ersten Jahren machen. Wir begleiten sie in ihren Entdeck
 ungen und Eroberungen. In Anlehnung an Emmi Pikler schaffen wir eine reizvo
 lle Spielumgebung, um freies Spielen zu ermöglichen und die Kleinen dazu an
 zuregen selbst tätig zu werden. Im Beisein der Eltern wird die Entwicklung 
 und Entfaltung in einem geschützten Rahmen möglich. \nGefördert wird dadurc
 h: \n\n - das Sozialverhalten\n - die Autonomie / Selbstständigkeit\n - die
  MotorikKursaufbauBevor es ans Spielen geht, beginnen wir mit einem kurzen 
 Morgenkreis, um uns zu begrüßen und neugierig zu schauen, wer heute gekomme
 n ist. Die Kinder dürfen sich dann ganz dem Spiel widmen und sich ausprobie
 ren, während sich die Eltern austauschen und plaudern können - ihre Kinder 
 stets im Blick. Der gemeinsame Austausch von Erfahrungen soll Eltern in ihr
 er Rolle stärken und sie darin unterstützen, im Alltag auch mal neue Wege z
 u gehen.\n\n\nAltersgruppe: Eltern &amp; Kind 6 Monate -3 Jahre\nSchnuppert
 ermin: 09.09.2019\nKursstart: 16.09.2019\nWir bitten um Voranmeldung!\nWeit
 er Informationen &amp; Anmeldung auf unserer Webseite (https://www.lyma.at/
 kinder/baby-kurse/babytreff-mit-pikler-elementen/)! \n\n
X-ALT-DESC;FMTTYPE=text/html:<h2 style="font-weight: 600;">Spielgruppe nach Emmi Pikler für Babys</h2><p
  style="font-weight: 400;">Entdecke gemeinsam mit deinem Baby unseren Spiel
 raum! Im <b><strong style="font-style: inherit;">Babytreff nach Pikler</str
 ong></b> hat dein Kind die Möglichkeit selbständig unterschiedliche Spiella
 ndschaften zu entdecken und erste Freundschaften zu knüpfen. Die Eltern kön
 nen sich währenddessen austauschen und erste Entwicklungsschritte ihrer Kin
 der beobachten.</p><h2 style="font-weight: 600;">Kursinhalt &amp; Ziele</h2
 ><p style="font-weight: 400;">Gemeinsames Spielen ist für die Entwicklung v
 on Babys und Kleinkindern besonders wichtig. Auf diese Weise können sie sic
 h ausprobieren und ihre Entwicklungsschritte in den ersten Jahren machen. W
 ir begleiten sie in ihren Entdeckungen und Eroberungen. In Anlehnung an Emm
 i Pikler schaffen wir eine reizvolle Spielumgebung, um freies Spielen zu er
 möglichen und die Kleinen dazu anzuregen selbst tätig zu werden. Im Beisein
  der Eltern wird die Entwicklung und Entfaltung in einem geschützten Rahmen
  möglich. </p><p style="font-weight: 400;">Gefördert wird dadurch: </p><ul 
 style="font-weight: 400;"><li>das Sozialverhalten</li><li>die Autonomie / S
 elbstständigkeit</li><li>die Motorik</li></ul><h2 style="font-weight: 600;"
 ><span style="font-style: inherit; font-weight: 600;">Kursaufbau</span></h2
 ><p style="font-weight: 400;">Bevor es ans Spielen geht, beginnen wir mit e
 inem kurzen Morgenkreis, um uns zu begrüßen und neugierig zu schauen, wer h
 eute gekommen ist. Die Kinder dürfen sich dann ganz dem Spiel widmen und si
 ch ausprobieren, während sich die Eltern austauschen und plaudern können - 
 ihre Kinder stets im Blick. Der gemeinsame Austausch von Erfahrungen soll E
 ltern in ihrer Rolle stärken und sie darin unterstützen, im Alltag auch mal
  neue Wege zu gehen.<br /><br /></p><p style="font-weight: 400;"><strong>Al
 tersgruppe: </strong>Eltern &amp; Kind 6 Monate -3 Jahre</p><p style="font-
 weight: 400;"><strong>Schnuppertermin:</strong> 09.09.2019<br /><strong>Kur
 sstart: </strong>16.09.2019</p><p style="font-weight: 400;">Wir bitten um V
 oranmeldung!<br />Weiter Informationen &amp; Anmeldung auf unserer <a title
 ="Babytreff nach Pikler" href="https://www.lyma.at/kinder/baby-kurse/babytr
 eff-mit-pikler-elementen/" target="_blank" rel="noopener noreferrer">Websei
 te</a>! </p><p style="font-weight: 400;"></p>
CONTACT:E-Mail: office@lyma.at  Telefon: 01/9093359
DTSTAMP:20260423T211327
DTSTART:20191007T080000
DTEND:20191007T090000
SEQUENCE:0
TRANSP:OPAQUE
END:VEVENT
END:VCALENDAR