BEGIN:VCALENDAR
VERSION:2.0
PRODID:-//jEvents 2.0 for Joomla//EN
CALSCALE:GREGORIAN
METHOD:PUBLISH
BEGIN:VEVENT
UID:07b4db2a322a92b52e46be01d5bd309e
CATEGORIES:6. Bezirk
CREATED:20190821T131223
SUMMARY:Rückbildungsgymnastik & Babymassage
LOCATION:LYMA - Loquaiplatz 12/1\, 1060 Wien
DESCRIPTION:Rückbildung mit BabyErholst du dich gerade von deiner Schwangerschaft? Bist
  du bereit, deinem Körper und dir wieder etwas Gutes zu tun? Die Zeit der S
 chwangerschaft und der Geburt ist eine ganz besondere Phase im Leben einer 
 Frau. Dein Körper durchläuft in dieser Zeit eine Vielzahl an Veränderungen.
  Sportliche Aktivitäten musstest du  vielleicht zurückstellen oder es war e
 infach keine Zeit mehr dafür. Nach der Geburt liegt der Fokus sehr beim neu
 en Familienmitglied. Unser Rückbildungskurs hilft dir wieder fit zu werden 
 und deinem Körper etwas Gutes zu tun. Dein Baby ist mit dabei!\nKursinhaltD
 er Schwerpunkt unserer Rückbildungsgymnastik liegt in der Rückgewinnung der
  Kraft in Bereichen des Körpers, wo die Schwangerschaft sichtbar geworden i
 st und „Eindruck“ hinterlassen hat. Mit gezielten Rückbildungsübungen werde
 n der Rumpf, der Bauch, der Rücken, die Beine gestärkt. Der Beckenboden wir
 d erspürt, erlebt und gestärkt. Denn die Lebensqualität einer Frau hängt un
 mittelbar mit dem Zustand ihres Beckenbodens zusammen. \n\nDein Baby darf d
 abei natürlich nicht fehlen. Die Übungen werden von unserer Hebammen Magdal
 ena Mittler daher so konzipiert, dass dein Kind eingebunden wird. Dadurch w
 ird der Kurs zu einem neuen Bindungselement in eurer Beziehung. Am Ende der
  Einheit werden die Kleinen mit einer liebevollen Babymassage verwöhnt. \n\
 nAltersgruppe: Babys &amp; Mütter ab 6 Wochen nach Entbindung bis ca. 8 Mon
 ate\nSchnupperstunde: 11.09.2019\nKursstart: 18.09.2019\nWir bitten um Vora
 nmeldung!\nWeitere Informationen und Anmeldung auf unserer Webseite! (https
 ://www.lyma.at/erwachsene/bewegung-koerperbewusstsein/rueckbildungsgymnasti
 k-babymassage/)\n\n
X-ALT-DESC;FMTTYPE=text/html:<h2 style="font-weight: 600;">Rückbildung mit Baby</h2><p style="font-weigh
 t: 400;">Erholst du dich gerade von deiner Schwangerschaft? Bist du bereit,
  deinem Körper und dir wieder etwas Gutes zu tun? Die Zeit der Schwangersch
 aft und der Geburt ist eine ganz besondere Phase im Leben einer Frau. Dein 
 Körper durchläuft in dieser Zeit eine Vielzahl an Veränderungen. Sportliche
  Aktivitäten musstest du  vielleicht zurückstellen oder es war einfach kein
 e Zeit mehr dafür. Nach der Geburt liegt der Fokus sehr beim neuen Familien
 mitglied. Unser <b><strong style="font-style: inherit;">Rückbildungskurs </
 strong></b>hilft dir wieder fit zu werden und deinem Körper etwas Gutes zu 
 tun. Dein Baby ist mit dabei!</p><h2 style="font-weight: 600;">Kursinhalt</
 h2><p style="font-weight: 400;">Der Schwerpunkt unserer <b><strong style="f
 ont-style: inherit;">Rückbildungsgymnastik</strong></b> liegt in der Rückge
 winnung der Kraft in Bereichen des Körpers, wo die Schwangerschaft sichtbar
  geworden ist und „Eindruck“ hinterlassen hat. Mit gezielten Rückbildungsüb
 ungen werden der Rumpf, der Bauch, der Rücken, die Beine gestärkt. Der Beck
 enboden wird erspürt, erlebt und gestärkt. Denn die Lebensqualität einer Fr
 au hängt unmittelbar mit dem Zustand ihres Beckenbodens zusammen. <br /><br
  />Dein Baby darf dabei natürlich nicht fehlen. Die Übungen werden von unse
 rer Hebammen Magdalena Mittler daher so konzipiert, dass dein Kind eingebun
 den wird. Dadurch wird der Kurs zu einem neuen Bindungselement in eurer Bez
 iehung. Am Ende der Einheit werden die Kleinen mit einer liebevollen Babyma
 ssage verwöhnt. </p><p style="font-weight: 400;"><strong><br />Altersgruppe
 : </strong>Babys &amp;<strong> </strong>Mütter ab 6 Wochen nach Entbindung 
 bis ca. 8 Monate<br /><strong>Schnupperstunde:</strong> 11.09.2019<br /><st
 rong>Kursstart: </strong>18.09.2019</p><p style="font-weight: 400;">Wir bit
 ten um Voranmeldung!<br />Weitere Informationen und Anmeldung auf unserer <
 a title="Rückbildungsgymnastik &amp; Babymassage" href="https://www.lyma.at
 /erwachsene/bewegung-koerperbewusstsein/rueckbildungsgymnastik-babymassage/
 " target="_blank" rel="noopener noreferrer">Webseite!</a></p><p style="font
 -weight: 400;"></p>
CONTACT:E-Mail: office@lyma.at  Telefon: 01/9093359
DTSTAMP:20260423T194633
DTSTART:20191106T090000
DTEND:20191106T103000
SEQUENCE:0
TRANSP:OPAQUE
END:VEVENT
END:VCALENDAR