BEGIN:VCALENDAR
VERSION:2.0
PRODID:-//jEvents 2.0 for Joomla//EN
CALSCALE:GREGORIAN
METHOD:PUBLISH
BEGIN:VEVENT
UID:e6bb0c4403fd95cf034f84cc89121ee8
CATEGORIES:6. Bezirk
CREATED:20190821T150441
SUMMARY:Musikkarussell für Kleinkinder 
LOCATION:LYMA - Loquaiplatz 12/1\, 1060 Wien
DESCRIPTION:<h2><strong><span class="subtitle">Gemeinsames Musizieren für Groß &amp; Kl
 ein</span></strong></h2><p>Im Musikkarussell machen Kleinkinder erste Erfah
 rungen mit Musik in liebevoller Umgebung. Gemeinsam mit Mama, Papa oder ein
 er anderen vertrauten Begleitperson begeben sie sich auf eine musikalische 
 Entdeckungsreise: wir lauschen neuen Klängen, erforschen unsere Stimme, spü
 ren den Rhythmus und bewegen uns zur Musik. Eine Vielzahl an Instrumenten u
 nd Spielmaterialien laden zum Experimentieren ein. </p><p>Woche für Woche r
 eisen wir durch unterschiedliche Länder und Jahreszeiten und setzen unser T
 hema musikalisch um: wir klatschen und rasseln, galoppieren wie Cowboys, im
 itieren den Bären auf der Trommel oder drehen uns wie ein Windrad. Die Freu
 de am gemeinsamen Erleben und Tun ohne Zwang steht dabei im Vordergrund. Ga
 nz nebenbei werden melodisches und rhythmisches Verständnis, aber auch Krea
 tivität, Sprachentwicklung und soziales Lernen gefördert. </p><p>Ein vielfä
 ltiges Angebot an Spielliedern, Klanggeschichten, Kniereitern, Versen und B
 ewegungsspielen soll auch anregen, zu Hause gemeinsam zu singen und zu tanz
 en.</p><p><strong><br />Altersgruppe:</strong> Eltern &amp;Kind 1,5-3 Jahre
 <br /><strong>Schnupperstunde:</strong> 10.09.2019<br /><strong>Kursstart:<
 /strong> 24.09.2019</p><p>Wir bitten um Voranmeldung!<br />Weitere Informat
 ionen &amp; Anmeldung auf unserer <a title="Musikkarussell für Kleinkinder"
  href="https://www.lyma.at/kinder/baby-kurse/musikkarussell-fuer-kleinkinde
 r/" target="_blank" rel="noopener noreferrer">Webseite</a>!</p><p></p>
CONTACT:E-Mail: office@lyma.at  Telefon: 01/9093359
DTSTAMP:20260424T181442
DTSTART:20190910T130000
DTEND:20190910T140000
SEQUENCE:0
TRANSP:OPAQUE
END:VEVENT
END:VCALENDAR