BEGIN:VCALENDAR
VERSION:2.0
PRODID:-//jEvents 2.0 for Joomla//EN
CALSCALE:GREGORIAN
METHOD:PUBLISH
BEGIN:VEVENT
UID:ea08c1daaed7e2d3453c9752ef8e3330
CATEGORIES:6. Bezirk
CREATED:20190822T124955
SUMMARY:Spielgruppe für Weltentdecken
LOCATION:LYMA - Loquaiplatz 12/1\, 1060 Wien
DESCRIPTION:Spiel, Musik &amp; KreativitätKlecksen, pantschen, malen, formen - in unser
 er Spielgruppe ist alles erlaubt, was Spaß macht und Mami zu Hause nie gest
 atten würde. Die Spiel- und Kreativgruppe steht allen Kindern offen sobald 
 sie selbst sitzen können und solange sie Spaß daran haben. Geboten wird ein
  buntes Programm aus Liedern, Bewegungsspielen und Kreativem wie malen, kne
 ten oder schütten, sodass sich die Kleinen richtig austoben können, ermunte
 rt werden zu experimentieren und ihre Umwelt mit allen Sinnen zu entdecken.
  Beim Salzteigkneten oder Fingermalen können die Kinder unterschiedliche Ma
 terialien entdecken, sie erfühlen, riechen oder sogar schmecken. Natürlich 
 sind die verwendeten Materialien kindgerecht und unbedenklich. Um den Kinde
 rn ein Umfeld zu bieten, in dem sie auch außerhalb der Familie verstanden w
 erden, werden die unterschiedlichen Aktivitäten mit Babyzeichensprache unte
 rstützt. \nAltersgruppe: Eltern &amp; Kinder 8-24 Monate\nSchnuppertermin: 
 10.09.2019\nKurstermin: 17.09.2019 \nWir bitten um Voranmeldung!\nWeitere I
 nformationen und Anmeldung auf unserer Webseite (https://www.lyma.at/kinder
 /baby-kurse/spielgruppe-fuer-kleine-weltentdecker/)!\n
X-ALT-DESC;FMTTYPE=text/html:<h2 class="subtitle"><strong>Spiel, Musik &amp; Kreativität</strong></h2><p
  class="subtitle">Klecksen, pantschen, malen, formen - in unserer Spielgrup
 pe ist alles erlaubt, was Spaß macht und Mami zu Hause nie gestatten würde.
  Die Spiel- und Kreativgruppe steht allen Kindern offen sobald sie selbst s
 itzen können und solange sie Spaß daran haben. Geboten wird ein buntes Prog
 ramm aus Liedern, Bewegungsspielen und Kreativem wie malen, kneten oder sch
 ütten, sodass sich die Kleinen richtig austoben können, ermuntert werden zu
  experimentieren und ihre Umwelt mit allen Sinnen zu entdecken. Beim Salzte
 igkneten oder Fingermalen können die Kinder unterschiedliche Materialien en
 tdecken, sie erfühlen, riechen oder sogar schmecken. Natürlich sind die ver
 wendeten Materialien kindgerecht und unbedenklich. Um den Kindern ein Umfel
 d zu bieten, in dem sie auch außerhalb der Familie verstanden werden, werde
 n die unterschiedlichen Aktivitäten mit Babyzeichensprache unterstützt. </p
 ><p class="subtitle"><strong>Altersgruppe:</strong> Eltern &amp; Kinder 8-2
 4 Monate<br /><strong>Schnuppertermin:</strong> 10.09.2019<br /><strong>Kur
 stermin:</strong> 17.09.2019 </p><p class="subtitle">Wir bitten um Voranmel
 dung!<br />Weitere Informationen und Anmeldung auf unserer <a title="Spielg
 ruppe für Weltentdecker" href="https://www.lyma.at/kinder/baby-kurse/spielg
 ruppe-fuer-kleine-weltentdecker/" target="_blank" rel="noopener noreferrer"
 >Webseite</a>!</p>
CONTACT:E-Mail: office@lyma.at  Telefon: 01/9093359
DTSTAMP:20260423T165350
DTSTART:20191126T094500
DTEND:20191126T104500
SEQUENCE:0
TRANSP:OPAQUE
END:VEVENT
END:VCALENDAR