BEGIN:VCALENDAR
VERSION:2.0
PRODID:-//jEvents 2.0 for Joomla//EN
CALSCALE:GREGORIAN
METHOD:PUBLISH
BEGIN:VEVENT
UID:92297c28ec876f809796ec5a208dab43
CATEGORIES:17. Bezirk
CREATED:20190902T220455
SUMMARY:MiniMusik 0-2Jahre: Singen, Spielen, Musizieren
LOCATION:Polymorph\, Paschinggasse 8\, 1170 Wien
DESCRIPTION:<p><strong>Macht es Ihnen und Ihrem Kind Spaß, zusammen zu singen</strong>,
  zu plaudern und zu brabbeln, zu scherzen und sich zu bewegen? Hört Ihr Kin
 d gerne Ihre Stimme, beruhigen Sie es manchmal sanft mit einer kleinen Melo
 die oder inbrünstig mit einem ganzen Repertoire an Kinderliedern? In der Mi
 niMusik sind Sie genau richtig, egal wieviel musikalische Erfahrung Sie hab
 en.</p><p><strong>Wir singen alte und neue Kinderlieder, machen lustige Bew
 egungsspiele</strong>, die nicht nur Ihr Kind zum Lachen bringen, und förde
 rn ganz spielerisch die feinmotorische, soziale und sprachliche Entwicklung
  Ihres Kindes.</p><p>www.minimusik.at</p>
CONTACT:Mag. Lisa Farthofer-Schmid, MiniMusikWien@gmail.com, Tel.: 0699-13804247
X-EXTRAINFO:[preis='1500'][anmeldung='true']
DTSTAMP:20260423T125144
DTSTART:20191209T134000
DTEND:20191209T143000
SEQUENCE:0
TRANSP:OPAQUE
END:VEVENT
END:VCALENDAR