BEGIN:VCALENDAR
VERSION:2.0
PRODID:-//jEvents 2.0 for Joomla//EN
CALSCALE:GREGORIAN
METHOD:PUBLISH
BEGIN:VEVENT
UID:569e7b71ade54c35371f9bbae83988b0
CATEGORIES:3. Bezirk
CREATED:20190924T144607
SUMMARY:Entdeckungswelt für Kleinkinder @ dugu
LOCATION:Landstraßer Hauptstraße 13/2/ Top 18 1030 Wien
DESCRIPTION:<div>In der Entdeckungswelt liegt der Fokus auf dem natürlichen Bewegungsdr
 ang der Kinder. Wir beginnen die 45-minütige Einheit mit einem gemeinsamen 
 Begrüßungslied. Danach haben die Kinder die Möglichkeit verschiedene Bewegu
 ngslandschaften zu entdecken und dabei unterschiedliche Sinneserfahrungen z
 u machen, um die Grobmotorik, das Körpergefühl und die Freude an der Bewegu
 ng zu stärken. Unterschiedliche Materialien, wie das Pikler-Dreieck, ein Tu
 nnel, Tücher, Bälle und Kastanienbäder bieten Abwechslung und fördern die k
 indliche Neugier!</div><div> </div><div><div>Einstieg jederzeit möglich!</d
 iv><div> </div><div>Bitte in bequemer Kleidung, die den Kindern Bewegungsfr
 eiheit ermöglicht, kommen.</div></div><div> </div><div>Für Kinder vom Sitz-
  bzw. Krabbelalter bis 3 Jahre.</div><div>In Begleitung eines Erwachsenen. 
 </div><div> </div><div><strong>Kosten:</strong></div><div>15€/Einheit, 10 E
 inheiten um 125€.</div>
CONTACT:info@dugu.at
DTSTAMP:20260423T112409
DTSTART:20191126T094500
DTEND:20191126T103000
SEQUENCE:0
TRANSP:OPAQUE
END:VEVENT
END:VCALENDAR