BEGIN:VCALENDAR
VERSION:2.0
PRODID:-//jEvents 2.0 for Joomla//EN
CALSCALE:GREGORIAN
METHOD:PUBLISH
BEGIN:VEVENT
UID:32c8a6b316825e09bede6ea1c8ecc0d6
CATEGORIES:4. Bezirk
CREATED:20191001T110704
SUMMARY:Mama Baby Rückbildung & Pilates
LOCATION:Studioy YOGINIS Waaggasse 12
DESCRIPTION:Bei unserer Rückbildung &amp; Pilates Einheit liegt der Fokus darauf, deine
 n Körper nach der Geburt wieder fit und kräftig zu machen. Die Muskulatur i
 m Bauch, Hüften, Rücken und im Beckenboden, wird bei diesen gezielten Übung
 en langsam und sanft wieder gedehnt und gestärkt.\nNach der Stunde ist imme
 r Zeit sich mit den anderen Mamis bei einer Tasse Tee auszutauschen!\n
X-ALT-DESC;FMTTYPE=text/html:<p style="margin: 0cm; margin-bottom: .0001pt;"><span style="font-family: t
 ahoma,arial,helvetica,sans-serif;">Bei unserer Rückbildung &amp; Pilates Ei
 nheit liegt der Fokus darauf, deinen Körper nach der Geburt wieder fit und 
 kräftig zu machen. Die Muskulatur im Bauch, Hüften, Rücken und im Beckenbod
 en, wird bei diesen gezielten Übungen langsam und sanft wieder gedehnt und 
 gestärkt.</span></p><p style="margin: 0cm; margin-bottom: .0001pt;"><span s
 tyle="font-family: tahoma,arial,helvetica,sans-serif;">Nach der Stunde ist 
 immer Zeit sich mit den anderen Mamis bei einer Tasse Tee auszutauschen!</s
 pan></p>
CONTACT:Angelika Kittel
DTSTAMP:20260423T162310
DTSTART:20191217T093000
DTEND:20191217T103000
SEQUENCE:0
TRANSP:OPAQUE
END:VEVENT
END:VCALENDAR